Workbook
Name CAD_150_1: Data!#REF!
Name CAD_150_2: Data!#REF!
Name CAD_150_2_MB: Data!#REF!
Name CAD_150_4: Data!#REF!
Name CAD_150_4_P: Data!#REF!
Name CAD_150_8_4loop: Data!#REF!
Name CAD_150_8_6loop: Data!#REF!
Name CAD_150_8_8loop: Data!#REF!
Name CAD_150_8PLUS_4loop: Data!#REF!
Name CAD_150_8PLUS_6loop: Data!#REF!
Name CAD_150_8PLUS_8loop: Data!#REF!
Name CAD_150_8PLUS_P_4loop: Data!#REF!
Name CAD_150_8PLUS_P_6loop: Data!#REF!
Name CAD_150_8PLUS_P_8loop: Data!#REF!
Name Centrales: Data!#REF!

Sheet System Calculation
A7: SYSTEM CALCULATOR JADE BIRD JBE-P2L1 EXCEL TOOL | K7: LC 2023 22a
C9: Standby time | D9: Alarm time
A10: Time backup power supply | C10: 30 | D10: 30 | E10: Select standby and alarm time
C11: =IF(OR(C10=48,C10=24),"Note: this value does not comply with EN 54"," ")
A12: System Parameters | C12: I_Standby (A) | D12: I_Alarm (A)
A13: JBE-P2L1 | C13: =IF($A13<>" ",VLOOKUP($A13,Data!$A$30:$D$30,2,FALSE),0) -> 0.2 | D13: =IF($A13<>" ",VLOOKUP($A13,Data!$A$30:$D$30,3,FALSE),0) -> 0.2 | E13: Select control panel from the list
A16: Panel Auxilliar System Parameters | B16: PCS | C16: I_Standby (A) | D16: I_Alarm (A)
A17: Panel auxilliary 24V DC output 1 | C17: 0 | D17: 0
A18: Panel auxilliary 24V DC output 2 | C18: 0 | D18: 0
A19: JBE-P2L1-EXLP | B19: 0 | C19: =IF($A19<>" ",VLOOKUP($A19,Data!$A$33:$C$36,2,FALSE),0)*B19 -> 0 | D19: =IF($A19<>" ",VLOOKUP($A19,Data!$A$33:$C$36,3,FALSE),0)*B19 -> 0 | E19: Fill the PCS field if panel has extension card (Yellow field)
A20: JBE-P2L2-2LP | B20: 0 | C20: =IF($A20<>" ",VLOOKUP($A20,Data!$A$33:$C$36,2,FALSE),0)*B20 -> 0 | D20: =IF($A20<>" ",VLOOKUP($A20,Data!$A$33:$C$36,3,FALSE),0)*B20 -> 0
A21: JBE-P2L2-IO | B21: 0 | C21: =IF($A21<>" ",VLOOKUP($A21,Data!$A$33:$C$36,2,FALSE),0)*B21 -> 0 | D21: =IF($A21<>" ",VLOOKUP($A21,Data!$A$33:$C$36,3,FALSE),0)*B21 -> 0
A22: JBE-P2L2-NET | B22: 0 | C22: =IF($A22<>" ",VLOOKUP($A22,Data!$A$33:$C$36,2,FALSE),0)*B22 -> 0 | D22: =IF($A22<>" ",VLOOKUP($A22,Data!$A$33:$C$36,3,FALSE),0)*B22 -> 0
A23: Loops Parameters Resume | C23: =C44 -> 0 | D23: =D44 -> 0
A24: I_Total | C24: =C13+C17+C18+C19+C20+C21+C22+C23 -> 0.2 | D24: =D13+D17+D18+D19+D20+D21+D22+D23 -> 0.2 | E24: =IF(OR(C24>4,D24>5.5),"Imax a = 4A; Imax b = 5.5A","")
B26: 2 x 7 Ah | C26: 2 x 12 Ah | D26: 2 x 17 Ah
A27: Battery Time* | B27: =((7/1.25)-(D24*(D10/60)))/C24 -> 27.5 | C27: =((12/1.25)-(D24*(D10/60)))/C24 -> 47.5 | D27: =((17/1.25)-(D24*(D10/60)))/C24 -> 67.5 | E27: *Battery time: Standby time + Alarm mode time
A29: Battery characteristics | C29: Voltaje (V) | D29: Capacity (Ah)
A30: YUASA NP17-12I | C30: =IF($A30<>" ",VLOOKUP($A30,Data!$A$39:$D$44,2,FALSE),0) -> 12 | D30: =IF($A30<>" ",VLOOKUP($A30,Data!$A$39:$D$44,3,FALSE),0) -> 17 | E30: Select battery from the list
A32: Minimum battery needed | B32: =F32 -> 7.625 | C32: =(C24*C10) -> 6 | D32: =(D24*(D10/60)) -> 0.1 | E32: =C32+D32 -> 6.1 | F32: =E32*1.25 -> 7.625
A33: Selected battery | B33: =IF(OR(F32>D30,F32>17),"FAIL","OK") -> OK | C33: =IF(F32>D30,IF(F32>17,"Need external power supply",IF(F32>12,"Need battery 17 Ah",IF(F32>7,"Need battery 12 Ah","Need battery 7 Ah"))),"")
A35: Loops Parameters | C35: I_Standby (A) | D35: I_Alarm (A) | E35: Current | F35: Addresses
A36: Loop 1 | C36: ='SC_Loop 1'!$D$33 -> 0 | D36: ='SC_Loop 1'!$G$33 -> 0 | E36: ='SC_Loop 1'!$M$10 -> OK | F36: ='SC_Loop 1'!$M$11 -> OK
A37: Loop 2 | C37: ='SC_Loop 2'!$D$33 -> 0 | D37: ='SC_Loop 2'!$G$33 -> 0 | E37: ='SC_Loop 2'!$M$10 -> OK | F37: ='SC_Loop 2'!$M$11 -> OK
A38: Loop 3 | C38: ='SC_Loop 3'!$D$33 -> 0 | D38: ='SC_Loop 3'!$G$33 -> 0 | E38: ='SC_Loop 3'!$M$10 -> OK | F38: ='SC_Loop 3'!$M$11 -> OK
A39: Loop 4 | C39: ='SC_Loop 4'!$D$33 -> 0 | D39: ='SC_Loop 4'!$G$33 -> 0 | E39: ='SC_Loop 4'!$M$10 -> OK | F39: ='SC_Loop 4'!$M$11 -> OK
A40: Loop 5 | C40: ='SC_Loop 5'!$D$33 -> 0 | D40: ='SC_Loop 5'!$G$33 -> 0 | E40: ='SC_Loop 5'!$M$10 -> OK | F40: ='SC_Loop 5'!$M$11 -> OK
A41: Loop 6 | C41: ='SC_Loop 6'!$D$33 -> 0 | D41: ='SC_Loop 6'!$G$33 -> 0 | E41: ='SC_Loop 6'!$M$10 -> OK | F41: ='SC_Loop 6'!$M$11 -> OK
A42: Loop 7 | C42: ='SC_Loop 7'!$D$33 -> 0 | D42: ='SC_Loop 7'!$G$33 -> 0 | E42: ='SC_Loop 7'!$M$10 -> OK | F42: ='SC_Loop 7'!$M$11 -> OK
A43: Loop 8 | C43: ='SC_Loop 8'!$D$33 -> 0 | D43: ='SC_Loop 8'!$G$33 -> 0 | E43: ='SC_Loop 8'!$M$10 -> OK | F43: ='SC_Loop 8'!$M$11 -> OK
A44: I_Total | C44: =SUM(C36:C43) -> 0 | D44: =SUM(D36:D43) -> 0
A46: This tool may be used as a design help for Jade Bird Fire Alarm International (Europe) S.L. We reserve the right not to be responsible for its accuracy, completeness or quality of the information provided, including any kind of information which could be incomplete or incorrect.

Sheet SC_Loop 1
C1: HIDE | E1: HIDE | F1: HIDE
A7: SYSTEM CALCULATOR JADE BIRD JBE-P2L1 EXCEL TOOL | M7: LC 2023 22a
A9: Loop | K9: System Check
A10: Section of wire | B10: 1.5 | D10: =VLOOKUP($B$10,Data!$A$9:$B$14,2,FALSE) -> 16 | K10: Current | M10: =IF($B$47>0.5,"FAIL",IF($B$69>=$B$47,"OK","FAIL")) -> OK
A11: Lenght loop | B11: 500 | D11: meters | K11: Addresses | M11: =IF($M$33<=200,"OK","FAIL") -> OK
A12: Fill Cable Section in mm2 and the Line Distance in meters (Yelow field) | D12: =IF(B11>3500,"Error: The Maximum Lenght in the Line is 3500 m","")
D13: =IF($B$47>0.5,"Error: The Loop Current is upper that Maximum Current allowed",IF($B$69<$B$47,"Error: The Loop Current is upper that Maximum Current allowed",""))
D14: =IF($M$33>250,"Error: The Loop cannot contain more than 200 addresses","")
B16: Fill the PCS field for the desired configuration (Yelow field) | C16: Fill the PCS field for the desired configuration (Yelow field)
A17: Devices Loop 1
A18: REF. | B18: PCS | C18: I_Standby (A) | D18: I_Standby (A) | E18: PCS_alarm | F18: I_Alarm (A) | G18: I_Alarm (A) | H18: I_Sounders (A) | I18: ISO | J18: DET | K18: MOD | L18: SND | M18: ADR
A19: JBE-2100 - MCP | B19: 0 | C19: =0.3/1000 -> 0.0003 | D19: =B19*C19 -> 0 | E19: =B19 -> 0 | F19: =1/1000 -> 0.001 | G19: =E19*F19 -> 0 | K19: =IF(B19<>0,B19," ") | M19: =IF(K19<>0,K19," ")
A20: JBE-2106 - HEAT DETECTOR | B20: 0 | C20: 0.0003 | D20: =B20*C20 -> 0 | E20: =B20 -> 0 | F20: =1/1000 -> 0.001 | G20: =E20*F20 -> 0 | J20: =IF(B20<>0,B20," ") | M20: =IF(J20<>0,J20," ")
A21: JBE-2111 - SMOKE DETECTOR | B21: 0 | C21: 0.0003 | D21: =B21*C21 -> 0 | E21: =B21 -> 0 | F21: =1/1000 -> 0.001 | G21: =E21*F21 -> 0 | J21: =IF(B21<>0,B21," ") | M21: =IF(J21<>0,J21," ")
A22: JBE-2115 - COMBO DETECTOR | B22: 0 | C22: 0.0003 | D22: =B22*C22 -> 0 | E22: =B22 -> 0 | F22: =1/1000 -> 0.001 | G22: =E22*F22 -> 0 | J22: =IF(B22<>0,B22," ") | M22: =IF(J22<>0,J22," ")
A23: JBE-2120 - INPUT MODULE | B23: 0 | C23: =0.25/1000 -> 0.00025 | D23: =B23*C23 -> 0 | E23: =B23 -> 0 | F23: =1/1000 -> 0.001 | G23: =E23*F23 -> 0 | K23: =IF(B23<>0,B23," ") | M23: =IF(K23<>0,K23," ")
A24: JBE-2125 - OUTPUT MODULE WITH FEEDBACK (Loop) | B24: 0 | C24: =0.25/1000 -> 0.00025 | D24: =B24*C24 -> 0 | E24: =B24 -> 0 | F24: =1/1000 -> 0.001 | G24: =E24*F24 -> 0 | K24: =IF(B24<>0,B24," ") | M24: =IF(K24<>0,K24," ")
A25: JBE-2125 - OUTPUT MODULE WITH FEEDBACK (External Power Supply) | B25: 0 | C25: =0.25/1000 -> 0.00025 | D25: =B25*C25 -> 0 | E25: =B25 -> 0 | F25: =0.25/1000 -> 0.00025 | G25: =E25*F25 -> 0 | K25: =IF(B25<>0,B25," ") | M25: =IF(K25<>0,K25," ")
A26: JBE-2135 - SOUNDER (External Power Supply) | B26: 0 | C26: =0.25/1000 -> 0.00025 | D26: =B26*C26 -> 0 | E26: =B26 -> 0 | F26: =0.25/1000 -> 0.00025 | G26: =E26*F26 -> 0 | H26: =IF(B26*G26=0," ",G26) | L26: =IF(B26<>0,B26," ") | M26: =IF(L26<>0,L26," ")
A27: JBE-2145 - SOUNDER - BEACON (VID) (External Power Supply) | B27: 0 | C27: =0.25/1000 -> 0.00025 | D27: =B27*C27 -> 0 | E27: =B27 -> 0 | F27: =0.25/1000 -> 0.00025 | G27: =E27*F27 -> 0 | H27: =IF(B27*G27=0," ",G27) | L27: =IF(B27<>0,B27," ") | M27: =IF(L27<>0,L27," ")
A28: JBE-2235 - SOUNDER - BEACON (VID) (Loop) | B28: 0 | C28: =0.25/1000 -> 0.00025 | D28: =B28*C28 -> 0 | E28: =B28 -> 0 | F28: =10/1000 -> 0.01 | G28: =E28*F28 -> 0 | H28: =IF(B28*G28=0," ",G28) | L28: =IF(B28<>0,B28," ") | M28: =IF(L28<>0,L28," ")
A29: JBE-2200 - ZONE MODULE (Loop) | B29: 0 | C29: =9/1000 -> 0.009 | D29: =B29*C29 -> 0 | E29: =B29 -> 0 | F29: =46/1000 -> 0.046 | G29: =E29*F29 -> 0 | K29: =IF(B29<>0,B29," ") | M29: =IF(K29<>0,K29," ")
A30: JBE-2000 - ZONE MODULE (External Power Supply) | B30: 0 | C30: =2/1000 -> 0.002 | D30: =B30*C30 -> 0 | E30: =B30 -> 0 | F30: =2/1000 -> 0.002 | G30: =E30*F30 -> 0 | K30: =IF(B30<>0,B30," ") | M30: =IF(K30<>0,K30," ")
A31: JBE-2150 - ISOLATOR MODULE | B31: 0 | C31: =0.25/1000 -> 0.00025 | D31: =B31*C31 -> 0 | E31: =B31 -> 0 | F31: =0.25/1000 -> 0.00025 | G31: =E31*F31 -> 0 | I31: =IF(B30<>0,B30," ")
A32: REMOTE INDICATOR | B32: 0 | C32: 0.000625 | D32: =B32*C32 -> 0 | E32: =B32 -> 0 | F32: =8/1000 -> 0.008 | G32: =E32*F32 -> 0
A33: Total | B33: =SUM(B19:B32) -> 0 | D33: =SUM(D19:D32) -> 0 | E33: =SUM(E19:E31) -> 0 | G33: =SUM(G19:G32) -> 0 | H33: =SUM(H19:H32) -> 0 | I33: =SUM(I19:I32) -> 0 | J33: =SUM(J19:J32) -> 0 | K33: =SUM(K19:K32) -> 0 | L33: =SUM(L19:L32) -> 0 | M33: =SUM(M19:M32) -> 0
D34: =IF(M33>200,"Error: The Loop cannot contain more than 200 addresses","")
D35: =IF(B28>30,"Error: The Loop cannot contain more than 30 Loop Sounders in 1.000 meters","")
D36: =IF(AND(B11>1000,B28>19),"Error: The Loop cannot contain more than 19 Loop Sounders in 2.000 meters","")
D37: =IF(AND(B29>6),"Error: The Loop cannot contain more than 6 Zone Modules Powered from the Loop","")
D38: =IF(OR(B25>0,B27>0,B30>0),"Info: External 24V needed. EN 54-4 certificate."," ")
D39: =IF(OR(B25>0,B27>0,B30>0)," Control Panel could provide from 24Vaux,"," ")
D40: =IF(OR(B25>0,B27>0,B30>0)," if 2A maximum current isn't exceeded."," ")
A42: Loop Parameters
A43: Cu | B43: 0.0172 | D43: Ω*mm2/m
A44: I_Standby | B44: =D33 -> 0 | D44: A
A45: I_Alarm | B45: =G33-H33 -> 0 | D45: A
A46: I_Sounders | B46: =H33 -> 0 | D46: A
A47: I_Total | B47: =SUM(B44:B46) -> 0 | D47: A
A48: V_Lin_Ring | B48: 6.9 | D48: V
A50: Minimum Cable Section for common Lenghts
A51: Lenghts | B51: 1000 | D51: 1500 | G51: 2000 | H51: 2500 | I51: 3000 | J51: 3500 | K51: m
A52: R_Cable | B52: =((($B$43*B51)/B54)*2) -> 68.8 | C52: =((($B$43*C51)/C54)*2) -> 0 | D52: =((($B$43*D51)/D54)*2) -> 103.2 | E52: =((($B$43*E51)/E54)*2) -> 0 | F52: =((($B$43*F51)/F54)*2) -> 0 | G52: =((($B$43*G51)/G54)*2) -> 137.6 | H52: =((($B$43*H51)/H54)*2) -> 172 | I52: =((($B$43*I51)/I54)*2) -> 206.4 | J52: =((($B$43*J51)/J54)*2) -> 240.8 | K52: Ω
A53: R_eq_Ring | B53: =B52/2 -> 34.4 | C53: =C52/2 -> 0 | D53: =D52/2 -> 51.6 | E53: =E52/2 -> 0 | F53: =F52/2 -> 0 | G53: =G52/2 -> 68.8 | H53: =H52/2 -> 86 | I53: =I52/2 -> 103.2 | J53: =J52/2 -> 120.4 | K53: Ω
A54: S_min | B54: =IF(IFERROR((($B$43*B$51)/(($B$48)/$B$47)),0)<0.5,0.5,IFERROR((($B$43*B$51)/(($B$48)/$B$47)),0)) -> 0.5 | C54: =IF(IFERROR((($B$43*C$51)/(($B$48)/$B$47)),0)<0.5,0.5,IFERROR((($B$43*C$51)/(($B$48)/$B$47)),0)) -> 0.5 | D54: =IF(IFERROR((($B$43*D$51)/(($B$48)/$B$47)),0)<0.5,0.5,IFERROR((($B$43*D$51)/(($B$48)/$B$47)),0)) -> 0.5 | E54: =IF(IFERROR((($B$43*E$51)/(($B$48)/$B$47)),0)<0.5,0.5,IFERROR((($B$43*E$51)/(($B$48)/$B$47)),0)) -> 0.5 | F54: =IF(IFERROR((($B$43*F$51)/(($B$48)/$B$47)),0)<0.5,0.5,IFERROR((($B$43*F$51)/(($B$48)/$B$47)),0)) -> 0.5 | G54: =IF(IFERROR((($B$43*G$51)/(($B$48)/$B$47)),0)<0.5,0.5,IFERROR((($B$43*G$51)/(($B$48)/$B$47)),0)) -> 0.5 | H54: =IF(IFERROR((($B$43*H$51)/(($B$48)/$B$47)),0)<0.5,0.5,IFERROR((($B$43*H$51)/(($B$48)/$B$47)),0)) -> 0.5 | I54: =IF(IFERROR((($B$43*I$51)/(($B$48)/$B$47)),0)<0.5,0.5,IFERROR((($B$43*I$51)/(($B$48)/$B$47)),0)) -> 0.5 | J54: =IF(IFERROR((($B$43*J$51)/(($B$48)/$B$47)),0)<0.5,0.5,IFERROR((($B$43*J$51)/(($B$48)/$B$47)),0)) -> 0.5 | K54: mm2
B55: Warning: The Minimum Cable Seccion in the Loop is 0,5 mm2
A57: Maximum Cable Lenght for Standard Cable Section (IEC 60228)
A58: Section | B58: 0.5 | D58: 0.75 | G58: 1 | H58: 1.5 | I58: 2.5 | J58: 4 | K58: mm2
A59: R_Cable | B59: =$B$43*B61/B58*2 -> 240.8 | C59: =$B$43*C61/C58*2 -> #DIV/0! | D59: =$B$43*D61/D58*2 -> 160.53333 | E59: =$B$43*E61/E58*2 -> #DIV/0! | F59: =$B$43*F61/F58*2 -> #DIV/0! | G59: =$B$43*G61/G58*2 -> 120.4 | H59: =$B$43*H61/H58*2 -> 80.266667 | I59: =$B$43*I61/I58*2 -> 48.16 | J59: =$B$43*J61/J58*2 -> 30.1 | K59: Ω
A60: R_eq_Ring | B60: =B59/2 -> 120.4 | C60: =C59/2 -> #DIV/0! | D60: =D59/2 -> 80.266667 | E60: =E59/2 -> #DIV/0! | F60: =F59/2 -> #DIV/0! | G60: =G59/2 -> 60.2 | H60: =H59/2 -> 40.133333 | I60: =I59/2 -> 24.08 | J60: =J59/2 -> 15.05 | K60: Ω
A61: L_max | B61: =IF(IFERROR((((($B$48)/$B$47)*B$58)/$B$43),9999)>3500,3500,IFERROR((((($B$48)/$B$47)*B$58)/$B$43),9999)) -> 3500 | C61: =IF(IFERROR((((($B$48)/$B$47)*C$58)/$B$43),9999)>3500,3500,IFERROR((((($B$48)/$B$47)*C$58)/$B$43),9999)) -> 3500 | D61: =IF(IFERROR((((($B$48)/$B$47)*D$58)/$B$43),9999)>3500,3500,IFERROR((((($B$48)/$B$47)*D$58)/$B$43),9999)) -> 3500 | E61: =IF(IFERROR((((($B$48)/$B$47)*E$58)/$B$43),9999)>3500,3500,IFERROR((((($B$48)/$B$47)*E$58)/$B$43),9999)) -> 3500 | F61: =IF(IFERROR((((($B$48)/$B$47)*F$58)/$B$43),9999)>3500,3500,IFERROR((((($B$48)/$B$47)*F$58)/$B$43),9999)) -> 3500 | G61: =IF(IFERROR((((($B$48)/$B$47)*G$58)/$B$43),9999)>3500,3500,IFERROR((((($B$48)/$B$47)*G$58)/$B$43),9999)) -> 3500 | H61: =IF(IFERROR((((($B$48)/$B$47)*H$58)/$B$43),9999)>3500,3500,IFERROR((((($B$48)/$B$47)*H$58)/$B$43),9999)) -> 3500 | I61: =IF(IFERROR((((($B$48)/$B$47)*I$58)/$B$43),9999)>3500,3500,IFERROR((((($B$48)/$B$47)*I$58)/$B$43),9999)) -> 3500 | J61: =IF(IFERROR((((($B$48)/$B$47)*J$58)/$B$43),9999)>3500,3500,IFERROR((((($B$48)/$B$47)*J$58)/$B$43),9999)) -> 3500 | K61: m
B62: Warning: The Maximum Cable Length in the Loop is 3.500 meters
A64: Maximum Current Calculation
A65: ? S | B65: =$B$10 -> 1.5 | D65: mm2 | H65: =IF(B65<0.5,"Error: The Minimum Cable Seccion in the Loop is 0,5 mm2","")
A66: ? L | B66: =$B$11 -> 500 | D66: meters | H66: =IF(B66>3500,"Error: The Maximum Lenght in the Line is 3500 meters","")
A67: R_Cable_Sys | B67: =((($B$43*B66)/B65)*2) -> 11.466667 | D67: Ω
A68: R_eq_Ring_Sys | B68: =B67/2 -> 5.7333333 | D68: Ω
A69: I_max | B69: =$B$48/$B$68 -> 1.2034884 | D69: A
A71: System Check
A72: Current | D72: =IF($B$47>0.5,"FAIL",IF($B$69>=$B$47,"OK","FAIL")) -> OK
A73: Addresses | D73: =IF($M$33<=200,"OK","FAIL") -> OK
D74: =IF($B$47>0.5,"Error: The Loop Current is upper that Maximum Current allowed",IF($B$69<$B$47,"Error: The Loop Current is upper that Maximum Current allowed",""))
D75: =IF($M$33>200,"Error: The Loop cannot contain more than 200 addresses","")
A77: This tool may be used as a design help for Jade Bird Fire Alarm International (Europe) S.L. We reserve the right not to be responsible for its accuracy, completeness or quality of the information provided, including any kind of information which could be incomplete or incorrect.

Sheet SC_Loop 2
C1: HIDE | E1: HIDE | F1: HIDE
A7: SYSTEM CALCULATOR JADE BIRD JBE-P2L1 EXCEL TOOL | M7: LC 2023 22a
A9: Loop | K9: System Check
A10: Section of wire | B10: 1.5 | D10: =VLOOKUP($B$10,Data!$A$9:$B$14,2,FALSE) -> 16 | K10: Current | M10: =IF($B$47>0.5,"FAIL",IF($B$69>=$B$47,"OK","FAIL")) -> OK
A11: Lenght loop | B11: 1000 | K11: Addresses | M11: =IF($M$33<=200,"OK","FAIL") -> OK
A12: Fill Cable Section in mm2 and the Line Distance in meters (Yelow field) | D12: =IF(B11>3500,"Error: The Maximum Lenght in the Line is 3500 m","")
D13: =IF($B$47>0.5,"Error: The Loop Current is upper that Maximum Current allowed",IF($B$69<$B$47,"Error: The Loop Current is upper that Maximum Current allowed",""))
D14: =IF($M$33>250,"Error: The Loop cannot contain more than 200 addresses","")
B16: Fill the PCS field for the desired configuration (Yelow field) | C16: Fill the PCS field for the desired configuration (Yelow field)
A17: Devices Loop 1
A18: REF. | B18: PCS | C18: I_Standby (A) | D18: I_Standby (A) | E18: PCS_alarm | F18: I_Alarm (A) | G18: I_Alarm (A) | H18: I_Sounders (A) | I18: ISO | J18: DET | K18: MOD | L18: SND | M18: ADR
A19: JBE-2100 - MCP | B19: 0 | C19: =0.3/1000 -> 0.0003 | D19: =B19*C19 -> 0 | E19: =B19 -> 0 | F19: =1/1000 -> 0.001 | G19: =E19*F19 -> 0 | K19: =IF(B19<>0,B19," ") | M19: =IF(K19<>0,K19," ")
A20: JBE-2106 - HEAT DETECTOR | B20: 0 | C20: 0.0003 | D20: =B20*C20 -> 0 | E20: =B20 -> 0 | F20: =1/1000 -> 0.001 | G20: =E20*F20 -> 0 | J20: =IF(B20<>0,B20," ") | M20: =IF(J20<>0,J20," ")
A21: JBE-2111 - SMOKE DETECTOR | B21: 0 | C21: 0.0003 | D21: =B21*C21 -> 0 | E21: =B21 -> 0 | F21: =1/1000 -> 0.001 | G21: =E21*F21 -> 0 | J21: =IF(B21<>0,B21," ") | M21: =IF(J21<>0,J21," ")
A22: JBE-2115 - COMBO DETECTOR | B22: 0 | C22: 0.0003 | D22: =B22*C22 -> 0 | E22: =B22 -> 0 | F22: =1/1000 -> 0.001 | G22: =E22*F22 -> 0 | J22: =IF(B22<>0,B22," ") | M22: =IF(J22<>0,J22," ")
A23: JBE-2120 - INPUT MODULE | B23: 0 | C23: =0.25/1000 -> 0.00025 | D23: =B23*C23 -> 0 | E23: =B23 -> 0 | F23: =1/1000 -> 0.001 | G23: =E23*F23 -> 0 | K23: =IF(B23<>0,B23," ") | M23: =IF(K23<>0,K23," ")
A24: JBE-2125 - OUTPUT MODULE WITH FEEDBACK (Loop) | B24: 0 | C24: =0.25/1000 -> 0.00025 | D24: =B24*C24 -> 0 | E24: =B24 -> 0 | F24: =1/1000 -> 0.001 | G24: =E24*F24 -> 0 | K24: =IF(B24<>0,B24," ") | M24: =IF(K24<>0,K24," ")
A25: JBE-2125 - OUTPUT MODULE WITH FEEDBACK (External Power Supply) | B25: 0 | C25: =0.25/1000 -> 0.00025 | D25: =B25*C25 -> 0 | E25: =B25 -> 0 | F25: =0.25/1000 -> 0.00025 | G25: =E25*F25 -> 0 | K25: =IF(B25<>0,B25," ") | M25: =IF(K25<>0,K25," ")
A26: JBE-2135 - SOUNDER (External Power Supply) | B26: 0 | C26: =0.25/1000 -> 0.00025 | D26: =B26*C26 -> 0 | E26: =B26 -> 0 | F26: =0.25/1000 -> 0.00025 | G26: =E26*F26 -> 0 | H26: =IF(B26*G26=0," ",G26) | L26: =IF(B26<>0,B26," ") | M26: =IF(L26<>0,L26," ")
A27: JBE-2145 - SOUNDER - BEACON (VID) (External Power Supply) | B27: 0 | C27: =0.25/1000 -> 0.00025 | D27: =B27*C27 -> 0 | E27: =B27 -> 0 | F27: =0.25/1000 -> 0.00025 | G27: =E27*F27 -> 0 | H27: =IF(B27*G27=0," ",G27) | L27: =IF(B27<>0,B27," ") | M27: =IF(L27<>0,L27," ")
A28: JBE-2235 - SOUNDER - BEACON (VID) (Loop) | B28: 0 | C28: =0.25/1000 -> 0.00025 | D28: =B28*C28 -> 0 | E28: =B28 -> 0 | F28: =10/1000 -> 0.01 | G28: =E28*F28 -> 0 | H28: =IF(B28*G28=0," ",G28) | L28: =IF(B28<>0,B28," ") | M28: =IF(L28<>0,L28," ")
A29: JBE-2200 - ZONE MODULE (Loop) | B29: 0 | C29: =9/1000 -> 0.009 | D29: =B29*C29 -> 0 | E29: =B29 -> 0 | F29: =46/1000 -> 0.046 | G29: =E29*F29 -> 0 | K29: =IF(B29<>0,B29," ") | M29: =IF(K29<>0,K29," ")
A30: JBE-2000 - ZONE MODULE (External Power Supply) | B30: 0 | C30: =2/1000 -> 0.002 | D30: =B30*C30 -> 0 | E30: =B30 -> 0 | F30: =2/1000 -> 0.002 | G30: =E30*F30 -> 0 | K30: =IF(B30<>0,B30," ") | M30: =IF(K30<>0,K30," ")
A31: JBE-2150 - ISOLATOR MODULE | B31: 0 | C31: =0.25/1000 -> 0.00025 | D31: =B31*C31 -> 0 | E31: =B31 -> 0 | F31: =0.25/1000 -> 0.00025 | G31: =E31*F31 -> 0 | I31: =IF(B30<>0,B30," ")
A32: REMOTE INDICATOR | B32: 0 | C32: 0.000625 | D32: =B32*C32 -> 0 | E32: =B32 -> 0 | F32: =8/1000 -> 0.008 | G32: =E32*F32 -> 0
A33: Total | B33: =SUM(B19:B32) -> 0 | D33: =SUM(D19:D32) -> 0 | E33: =SUM(E19:E31) -> 0 | G33: =SUM(G19:G32) -> 0 | H33: =SUM(H19:H32) -> 0 | I33: =SUM(I19:I32) -> 0 | J33: =SUM(J19:J32) -> 0 | K33: =SUM(K19:K32) -> 0 | L33: =SUM(L19:L32) -> 0 | M33: =SUM(M19:M32) -> 0
D34: =IF(M33>200,"Error: The Loop cannot contain more than 200 addresses","")
D35: =IF(B28>30,"Error: The Loop cannot contain more than 30 Loop Sounders in 1.000 meters","")
D36: =IF(AND(B11>1000,B28>19),"Error: The Loop cannot contain more than 19 Loop Sounders in 2.000 meters","")
D37: =IF(AND(B29>6),"Error: The Loop cannot contain more than 6 Zone Modules Powered from the Loop","")
D38: =IF(OR(B25>0,B27>0,B30>0),"Info: External 24V needed. EN 54-4 certificate."," ")
D39: =IF(OR(B25>0,B27>0,B30>0)," Control Panel could provide from 24Vaux,"," ")
D40: =IF(OR(B25>0,B27>0,B30>0)," if 2A maximum current isn't exceeded."," ")
A42: Loop Parameters
A43: Cu | B43: 0.0172 | D43: Ω*mm2/m
A44: I_Standby | B44: =D33 -> 0 | D44: A
A45: I_Alarm | B45: =G33-H33 -> 0 | D45: A
A46: I_Sounders | B46: =H33 -> 0 | D46: A
A47: I_Total | B47: =SUM(B44:B46) -> 0 | D47: A
A48: V_Lin_Ring | B48: 6.9 | D48: V
A50: Minimum Cable Section for common Lenghts
A51: Lenghts | B51: 1000 | D51: 1500 | G51: 2000 | H51: 2500 | I51: 3000 | J51: 3500 | K51: m
A52: R_Cable | B52: =((($B$43*B51)/B54)*2) -> 68.8 | C52: =((($B$43*C51)/C54)*2) -> 0 | D52: =((($B$43*D51)/D54)*2) -> 103.2 | E52: =((($B$43*E51)/E54)*2) -> 0 | F52: =((($B$43*F51)/F54)*2) -> 0 | G52: =((($B$43*G51)/G54)*2) -> 137.6 | H52: =((($B$43*H51)/H54)*2) -> 172 | I52: =((($B$43*I51)/I54)*2) -> 206.4 | J52: =((($B$43*J51)/J54)*2) -> 240.8 | K52: Ω
A53: R_eq_Ring | B53: =B52/2 -> 34.4 | C53: =C52/2 -> 0 | D53: =D52/2 -> 51.6 | E53: =E52/2 -> 0 | F53: =F52/2 -> 0 | G53: =G52/2 -> 68.8 | H53: =H52/2 -> 86 | I53: =I52/2 -> 103.2 | J53: =J52/2 -> 120.4 | K53: Ω
A54: S_min | B54: =IF(IFERROR((($B$43*B$51)/(($B$48)/$B$47)),0)<0.5,0.5,IFERROR((($B$43*B$51)/(($B$48)/$B$47)),0)) -> 0.5 | C54: =IF(IFERROR((($B$43*C$51)/(($B$48)/$B$47)),0)<0.5,0.5,IFERROR((($B$43*C$51)/(($B$48)/$B$47)),0)) -> 0.5 | D54: =IF(IFERROR((($B$43*D$51)/(($B$48)/$B$47)),0)<0.5,0.5,IFERROR((($B$43*D$51)/(($B$48)/$B$47)),0)) -> 0.5 | E54: =IF(IFERROR((($B$43*E$51)/(($B$48)/$B$47)),0)<0.5,0.5,IFERROR((($B$43*E$51)/(($B$48)/$B$47)),0)) -> 0.5 | F54: =IF(IFERROR((($B$43*F$51)/(($B$48)/$B$47)),0)<0.5,0.5,IFERROR((($B$43*F$51)/(($B$48)/$B$47)),0)) -> 0.5 | G54: =IF(IFERROR((($B$43*G$51)/(($B$48)/$B$47)),0)<0.5,0.5,IFERROR((($B$43*G$51)/(($B$48)/$B$47)),0)) -> 0.5 | H54: =IF(IFERROR((($B$43*H$51)/(($B$48)/$B$47)),0)<0.5,0.5,IFERROR((($B$43*H$51)/(($B$48)/$B$47)),0)) -> 0.5 | I54: =IF(IFERROR((($B$43*I$51)/(($B$48)/$B$47)),0)<0.5,0.5,IFERROR((($B$43*I$51)/(($B$48)/$B$47)),0)) -> 0.5 | J54: =IF(IFERROR((($B$43*J$51)/(($B$48)/$B$47)),0)<0.5,0.5,IFERROR((($B$43*J$51)/(($B$48)/$B$47)),0)) -> 0.5 | K54: mm2
B55: Warning: The Minimum Cable Seccion in the Loop is 0,5 mm2
A57: Maximum Cable Lenght for Standard Cable Section (IEC 60228)
A58: Section | B58: 0.5 | D58: 0.75 | G58: 1 | H58: 1.5 | I58: 2.5 | J58: 4 | K58: mm2
A59: R_Cable | B59: =$B$43*B61/B58*2 -> 240.8 | C59: =$B$43*C61/C58*2 -> #DIV/0! | D59: =$B$43*D61/D58*2 -> 160.53333 | E59: =$B$43*E61/E58*2 -> #DIV/0! | F59: =$B$43*F61/F58*2 -> #DIV/0! | G59: =$B$43*G61/G58*2 -> 120.4 | H59: =$B$43*H61/H58*2 -> 80.266667 | I59: =$B$43*I61/I58*2 -> 48.16 | J59: =$B$43*J61/J58*2 -> 30.1 | K59: Ω
A60: R_eq_Ring | B60: =B59/2 -> 120.4 | C60: =C59/2 -> #DIV/0! | D60: =D59/2 -> 80.266667 | E60: =E59/2 -> #DIV/0! | F60: =F59/2 -> #DIV/0! | G60: =G59/2 -> 60.2 | H60: =H59/2 -> 40.133333 | I60: =I59/2 -> 24.08 | J60: =J59/2 -> 15.05 | K60: Ω
A61: L_max | B61: =IF(IFERROR((((($B$48)/$B$47)*B$58)/$B$43),9999)>3500,3500,IFERROR((((($B$48)/$B$47)*B$58)/$B$43),9999)) -> 3500 | C61: =IF(IFERROR((((($B$48)/$B$47)*C$58)/$B$43),9999)>3500,3500,IFERROR((((($B$48)/$B$47)*C$58)/$B$43),9999)) -> 3500 | D61: =IF(IFERROR((((($B$48)/$B$47)*D$58)/$B$43),9999)>3500,3500,IFERROR((((($B$48)/$B$47)*D$58)/$B$43),9999)) -> 3500 | E61: =IF(IFERROR((((($B$48)/$B$47)*E$58)/$B$43),9999)>3500,3500,IFERROR((((($B$48)/$B$47)*E$58)/$B$43),9999)) -> 3500 | F61: =IF(IFERROR((((($B$48)/$B$47)*F$58)/$B$43),9999)>3500,3500,IFERROR((((($B$48)/$B$47)*F$58)/$B$43),9999)) -> 3500 | G61: =IF(IFERROR((((($B$48)/$B$47)*G$58)/$B$43),9999)>3500,3500,IFERROR((((($B$48)/$B$47)*G$58)/$B$43),9999)) -> 3500 | H61: =IF(IFERROR((((($B$48)/$B$47)*H$58)/$B$43),9999)>3500,3500,IFERROR((((($B$48)/$B$47)*H$58)/$B$43),9999)) -> 3500 | I61: =IF(IFERROR((((($B$48)/$B$47)*I$58)/$B$43),9999)>3500,3500,IFERROR((((($B$48)/$B$47)*I$58)/$B$43),9999)) -> 3500 | J61: =IF(IFERROR((((($B$48)/$B$47)*J$58)/$B$43),9999)>3500,3500,IFERROR((((($B$48)/$B$47)*J$58)/$B$43),9999)) -> 3500 | K61: m
B62: Warning: The Maximum Cable Length in the Loop is 3.500 meters
A64: Maximum Current Calculation
A65: ? S | B65: =$B$10 -> 1.5 | D65: mm2 | H65: =IF(B65<0.5,"Error: The Minimum Cable Seccion in the Loop is 0,5 mm2","")
A66: ? L | B66: =$B$11 -> 1000 | D66: meters | H66: =IF(B66>3500,"Error: The Maximum Lenght in the Line is 3500 meters","")
A67: R_Cable_Sys | B67: =((($B$43*B66)/B65)*2) -> 22.933333 | D67: Ω
A68: R_eq_Ring_Sys | B68: =B67/2 -> 11.466667 | D68: Ω
A69: I_max | B69: =$B$48/$B$68 -> 0.60174419 | D69: A
A71: System Check
A72: Current | D72: =IF($B$47>0.5,"FAIL",IF($B$69>=$B$47,"OK","FAIL")) -> OK
A73: Addresses | D73: =IF($M$33<=200,"OK","FAIL") -> OK
D74: =IF($B$47>0.5,"Error: The Loop Current is upper that Maximum Current allowed",IF($B$69<$B$47,"Error: The Loop Current is upper that Maximum Current allowed",""))
D75: =IF($M$33>200,"Error: The Loop cannot contain more than 200 addresses","")
A77: This tool may be used as a design help for Jade Bird Fire Alarm International (Europe) S.L. We reserve the right not to be responsible for its accuracy, completeness or quality of the information provided, including any kind of information which could be incomplete or incorrect.

Sheet SC_Loop 3
C1: HIDE | E1: HIDE | F1: HIDE
A7: SYSTEM CALCULATOR JADE BIRD JBE-P2L1 EXCEL TOOL | M7: LC 2023 22a
A9: Loop | K9: System Check
A10: Section of wire | B10: 1.5 | D10: =VLOOKUP($B$10,Data!$A$9:$B$14,2,FALSE) -> 16 | K10: Current | M10: =IF($B$47>0.5,"FAIL",IF($B$69>=$B$47,"OK","FAIL")) -> OK
A11: Lenght loop | B11: 1000 | K11: Addresses | M11: =IF($M$33<=200,"OK","FAIL") -> OK
A12: Fill Cable Section in mm2 and the Line Distance in meters (Yelow field) | D12: =IF(B11>3500,"Error: The Maximum Lenght in the Line is 3500 m","")
D13: =IF($B$47>0.5,"Error: The Loop Current is upper that Maximum Current allowed",IF($B$69<$B$47,"Error: The Loop Current is upper that Maximum Current allowed",""))
D14: =IF($M$33>250,"Error: The Loop cannot contain more than 200 addresses","")
B16: Fill the PCS field for the desired configuration (Yelow field) | C16: Fill the PCS field for the desired configuration (Yelow field)
A17: Devices Loop 1
A18: REF. | B18: PCS | C18: I_Standby (A) | D18: I_Standby (A) | E18: PCS_alarm | F18: I_Alarm (A) | G18: I_Alarm (A) | H18: I_Sounders (A) | I18: ISO | J18: DET | K18: MOD | L18: SND | M18: ADR
A19: JBE-2100 - MCP | B19: 0 | C19: =0.3/1000 -> 0.0003 | D19: =B19*C19 -> 0 | E19: =B19 -> 0 | F19: =1/1000 -> 0.001 | G19: =E19*F19 -> 0 | K19: =IF(B19<>0,B19," ") | M19: =IF(K19<>0,K19," ")
A20: JBE-2106 - HEAT DETECTOR | B20: 0 | C20: 0.0003 | D20: =B20*C20 -> 0 | E20: =B20 -> 0 | F20: =1/1000 -> 0.001 | G20: =E20*F20 -> 0 | J20: =IF(B20<>0,B20," ") | M20: =IF(J20<>0,J20," ")
A21: JBE-2111 - SMOKE DETECTOR | B21: 0 | C21: 0.0003 | D21: =B21*C21 -> 0 | E21: =B21 -> 0 | F21: =1/1000 -> 0.001 | G21: =E21*F21 -> 0 | J21: =IF(B21<>0,B21," ") | M21: =IF(J21<>0,J21," ")
A22: JBE-2115 - COMBO DETECTOR | B22: 0 | C22: 0.0003 | D22: =B22*C22 -> 0 | E22: =B22 -> 0 | F22: =1/1000 -> 0.001 | G22: =E22*F22 -> 0 | J22: =IF(B22<>0,B22," ") | M22: =IF(J22<>0,J22," ")
A23: JBE-2120 - INPUT MODULE | B23: 0 | C23: =0.25/1000 -> 0.00025 | D23: =B23*C23 -> 0 | E23: =B23 -> 0 | F23: =1/1000 -> 0.001 | G23: =E23*F23 -> 0 | K23: =IF(B23<>0,B23," ") | M23: =IF(K23<>0,K23," ")
A24: JBE-2125 - OUTPUT MODULE WITH FEEDBACK (Loop) | B24: 0 | C24: =0.25/1000 -> 0.00025 | D24: =B24*C24 -> 0 | E24: =B24 -> 0 | F24: =1/1000 -> 0.001 | G24: =E24*F24 -> 0 | K24: =IF(B24<>0,B24," ") | M24: =IF(K24<>0,K24," ")
A25: JBE-2125 - OUTPUT MODULE WITH FEEDBACK (External Power Supply) | B25: 0 | C25: =0.25/1000 -> 0.00025 | D25: =B25*C25 -> 0 | E25: =B25 -> 0 | F25: =0.25/1000 -> 0.00025 | G25: =E25*F25 -> 0 | K25: =IF(B25<>0,B25," ") | M25: =IF(K25<>0,K25," ")
A26: JBE-2135 - SOUNDER (External Power Supply) | B26: 0 | C26: =0.25/1000 -> 0.00025 | D26: =B26*C26 -> 0 | E26: =B26 -> 0 | F26: =0.25/1000 -> 0.00025 | G26: =E26*F26 -> 0 | H26: =IF(B26*G26=0," ",G26) | L26: =IF(B26<>0,B26," ") | M26: =IF(L26<>0,L26," ")
A27: JBE-2145 - SOUNDER - BEACON (VID) (External Power Supply) | B27: 0 | C27: =0.25/1000 -> 0.00025 | D27: =B27*C27 -> 0 | E27: =B27 -> 0 | F27: =0.25/1000 -> 0.00025 | G27: =E27*F27 -> 0 | H27: =IF(B27*G27=0," ",G27) | L27: =IF(B27<>0,B27," ") | M27: =IF(L27<>0,L27," ")
A28: JBE-2235 - SOUNDER - BEACON (VID) (Loop) | B28: 0 | C28: =0.25/1000 -> 0.00025 | D28: =B28*C28 -> 0 | E28: =B28 -> 0 | F28: =10/1000 -> 0.01 | G28: =E28*F28 -> 0 | H28: =IF(B28*G28=0," ",G28) | L28: =IF(B28<>0,B28," ") | M28: =IF(L28<>0,L28," ")
A29: JBE-2200 - ZONE MODULE (Loop) | B29: 0 | C29: =9/1000 -> 0.009 | D29: =B29*C29 -> 0 | E29: =B29 -> 0 | F29: =46/1000 -> 0.046 | G29: =E29*F29 -> 0 | K29: =IF(B29<>0,B29," ") | M29: =IF(K29<>0,K29," ")
A30: JBE-2000 - ZONE MODULE (External Power Supply) | B30: 0 | C30: =2/1000 -> 0.002 | D30: =B30*C30 -> 0 | E30: =B30 -> 0 | F30: =2/1000 -> 0.002 | G30: =E30*F30 -> 0 | K30: =IF(B30<>0,B30," ") | M30: =IF(K30<>0,K30," ")
A31: JBE-2150 - ISOLATOR MODULE | B31: 0 | C31: =0.25/1000 -> 0.00025 | D31: =B31*C31 -> 0 | E31: =B31 -> 0 | F31: =0.25/1000 -> 0.00025 | G31: =E31*F31 -> 0 | I31: =IF(B30<>0,B30," ")
A32: REMOTE INDICATOR | B32: 0 | C32: 0.000625 | D32: =B32*C32 -> 0 | E32: =B32 -> 0 | F32: =8/1000 -> 0.008 | G32: =E32*F32 -> 0
A33: Total | B33: =SUM(B19:B32) -> 0 | D33: =SUM(D19:D32) -> 0 | E33: =SUM(E19:E31) -> 0 | G33: =SUM(G19:G32) -> 0 | H33: =SUM(H19:H32) -> 0 | I33: =SUM(I19:I32) -> 0 | J33: =SUM(J19:J32) -> 0 | K33: =SUM(K19:K32) -> 0 | L33: =SUM(L19:L32) -> 0 | M33: =SUM(M19:M32) -> 0
D34: =IF(M33>200,"Error: The Loop cannot contain more than 200 addresses","")
D35: =IF(B28>30,"Error: The Loop cannot contain more than 30 Loop Sounders in 1.000 meters","")
D36: =IF(AND(B11>1000,B28>19),"Error: The Loop cannot contain more than 19 Loop Sounders in 2.000 meters","")
D37: =IF(AND(B29>6),"Error: The Loop cannot contain more than 6 Zone Modules Powered from the Loop","")
D38: =IF(OR(B25>0,B27>0,B30>0),"Info: External 24V needed. EN 54-4 certificate."," ")
D39: =IF(OR(B25>0,B27>0,B30>0)," Control Panel could provide from 24Vaux,"," ")
D40: =IF(OR(B25>0,B27>0,B30>0)," if 2A maximum current isn't exceeded."," ")
A42: Loop Parameters
A43: Cu | B43: 0.0172 | D43: Ω*mm2/m
A44: I_Standby | B44: =D33 -> 0 | D44: A
A45: I_Alarm | B45: =G33-H33 -> 0 | D45: A
A46: I_Sounders | B46: =H33 -> 0 | D46: A
A47: I_Total | B47: =SUM(B44:B46) -> 0 | D47: A
A48: V_Lin_Ring | B48: 6.9 | D48: V
A50: Minimum Cable Section for common Lenghts
A51: Lenghts | B51: 1000 | D51: 1500 | G51: 2000 | H51: 2500 | I51: 3000 | J51: 3500 | K51: m
A52: R_Cable | B52: =((($B$43*B51)/B54)*2) -> 68.8 | C52: =((($B$43*C51)/C54)*2) -> 0 | D52: =((($B$43*D51)/D54)*2) -> 103.2 | E52: =((($B$43*E51)/E54)*2) -> 0 | F52: =((($B$43*F51)/F54)*2) -> 0 | G52: =((($B$43*G51)/G54)*2) -> 137.6 | H52: =((($B$43*H51)/H54)*2) -> 172 | I52: =((($B$43*I51)/I54)*2) -> 206.4 | J52: =((($B$43*J51)/J54)*2) -> 240.8 | K52: Ω
A53: R_eq_Ring | B53: =B52/2 -> 34.4 | C53: =C52/2 -> 0 | D53: =D52/2 -> 51.6 | E53: =E52/2 -> 0 | F53: =F52/2 -> 0 | G53: =G52/2 -> 68.8 | H53: =H52/2 -> 86 | I53: =I52/2 -> 103.2 | J53: =J52/2 -> 120.4 | K53: Ω
A54: S_min | B54: =IF(IFERROR((($B$43*B$51)/(($B$48)/$B$47)),0)<0.5,0.5,IFERROR((($B$43*B$51)/(($B$48)/$B$47)),0)) -> 0.5 | C54: =IF(IFERROR((($B$43*C$51)/(($B$48)/$B$47)),0)<0.5,0.5,IFERROR((($B$43*C$51)/(($B$48)/$B$47)),0)) -> 0.5 | D54: =IF(IFERROR((($B$43*D$51)/(($B$48)/$B$47)),0)<0.5,0.5,IFERROR((($B$43*D$51)/(($B$48)/$B$47)),0)) -> 0.5 | E54: =IF(IFERROR((($B$43*E$51)/(($B$48)/$B$47)),0)<0.5,0.5,IFERROR((($B$43*E$51)/(($B$48)/$B$47)),0)) -> 0.5 | F54: =IF(IFERROR((($B$43*F$51)/(($B$48)/$B$47)),0)<0.5,0.5,IFERROR((($B$43*F$51)/(($B$48)/$B$47)),0)) -> 0.5 | G54: =IF(IFERROR((($B$43*G$51)/(($B$48)/$B$47)),0)<0.5,0.5,IFERROR((($B$43*G$51)/(($B$48)/$B$47)),0)) -> 0.5 | H54: =IF(IFERROR((($B$43*H$51)/(($B$48)/$B$47)),0)<0.5,0.5,IFERROR((($B$43*H$51)/(($B$48)/$B$47)),0)) -> 0.5 | I54: =IF(IFERROR((($B$43*I$51)/(($B$48)/$B$47)),0)<0.5,0.5,IFERROR((($B$43*I$51)/(($B$48)/$B$47)),0)) -> 0.5 | J54: =IF(IFERROR((($B$43*J$51)/(($B$48)/$B$47)),0)<0.5,0.5,IFERROR((($B$43*J$51)/(($B$48)/$B$47)),0)) -> 0.5 | K54: mm2
B55: Warning: The Minimum Cable Seccion in the Loop is 0,5 mm2
A57: Maximum Cable Lenght for Standard Cable Section (IEC 60228)
A58: Section | B58: 0.5 | D58: 0.75 | G58: 1 | H58: 1.5 | I58: 2.5 | J58: 4 | K58: mm2
A59: R_Cable | B59: =$B$43*B61/B58*2 -> 240.8 | C59: =$B$43*C61/C58*2 -> #DIV/0! | D59: =$B$43*D61/D58*2 -> 160.53333 | E59: =$B$43*E61/E58*2 -> #DIV/0! | F59: =$B$43*F61/F58*2 -> #DIV/0! | G59: =$B$43*G61/G58*2 -> 120.4 | H59: =$B$43*H61/H58*2 -> 80.266667 | I59: =$B$43*I61/I58*2 -> 48.16 | J59: =$B$43*J61/J58*2 -> 30.1 | K59: Ω
A60: R_eq_Ring | B60: =B59/2 -> 120.4 | C60: =C59/2 -> #DIV/0! | D60: =D59/2 -> 80.266667 | E60: =E59/2 -> #DIV/0! | F60: =F59/2 -> #DIV/0! | G60: =G59/2 -> 60.2 | H60: =H59/2 -> 40.133333 | I60: =I59/2 -> 24.08 | J60: =J59/2 -> 15.05 | K60: Ω
A61: L_max | B61: =IF(IFERROR((((($B$48)/$B$47)*B$58)/$B$43),9999)>3500,3500,IFERROR((((($B$48)/$B$47)*B$58)/$B$43),9999)) -> 3500 | C61: =IF(IFERROR((((($B$48)/$B$47)*C$58)/$B$43),9999)>3500,3500,IFERROR((((($B$48)/$B$47)*C$58)/$B$43),9999)) -> 3500 | D61: =IF(IFERROR((((($B$48)/$B$47)*D$58)/$B$43),9999)>3500,3500,IFERROR((((($B$48)/$B$47)*D$58)/$B$43),9999)) -> 3500 | E61: =IF(IFERROR((((($B$48)/$B$47)*E$58)/$B$43),9999)>3500,3500,IFERROR((((($B$48)/$B$47)*E$58)/$B$43),9999)) -> 3500 | F61: =IF(IFERROR((((($B$48)/$B$47)*F$58)/$B$43),9999)>3500,3500,IFERROR((((($B$48)/$B$47)*F$58)/$B$43),9999)) -> 3500 | G61: =IF(IFERROR((((($B$48)/$B$47)*G$58)/$B$43),9999)>3500,3500,IFERROR((((($B$48)/$B$47)*G$58)/$B$43),9999)) -> 3500 | H61: =IF(IFERROR((((($B$48)/$B$47)*H$58)/$B$43),9999)>3500,3500,IFERROR((((($B$48)/$B$47)*H$58)/$B$43),9999)) -> 3500 | I61: =IF(IFERROR((((($B$48)/$B$47)*I$58)/$B$43),9999)>3500,3500,IFERROR((((($B$48)/$B$47)*I$58)/$B$43),9999)) -> 3500 | J61: =IF(IFERROR((((($B$48)/$B$47)*J$58)/$B$43),9999)>3500,3500,IFERROR((((($B$48)/$B$47)*J$58)/$B$43),9999)) -> 3500 | K61: m
B62: Warning: The Maximum Cable Length in the Loop is 3.500 meters
A64: Maximum Current Calculation
A65: ? S | B65: =$B$10 -> 1.5 | D65: mm2 | H65: =IF(B65<0.5,"Error: The Minimum Cable Seccion in the Loop is 0,5 mm2","")
A66: ? L | B66: =$B$11 -> 1000 | D66: meters | H66: =IF(B66>3500,"Error: The Maximum Lenght in the Line is 3500 meters","")
A67: R_Cable_Sys | B67: =((($B$43*B66)/B65)*2) -> 22.933333 | D67: Ω
A68: R_eq_Ring_Sys | B68: =B67/2 -> 11.466667 | D68: Ω
A69: I_max | B69: =$B$48/$B$68 -> 0.60174419 | D69: A
A71: System Check
A72: Current | D72: =IF($B$47>0.5,"FAIL",IF($B$69>=$B$47,"OK","FAIL")) -> OK
A73: Addresses | D73: =IF($M$33<=200,"OK","FAIL") -> OK
D74: =IF($B$47>0.5,"Error: The Loop Current is upper that Maximum Current allowed",IF($B$69<$B$47,"Error: The Loop Current is upper that Maximum Current allowed",""))
D75: =IF($M$33>200,"Error: The Loop cannot contain more than 200 addresses","")
A77: This tool may be used as a design help for Jade Bird Fire Alarm International (Europe) S.L. We reserve the right not to be responsible for its accuracy, completeness or quality of the information provided, including any kind of information which could be incomplete or incorrect.

Sheet SC_Loop 4
C1: HIDE | E1: HIDE | F1: HIDE
A7: SYSTEM CALCULATOR JADE BIRD JBE-P2L1 EXCEL TOOL | M7: LC 2023 22a
A9: Loop | K9: System Check
A10: Section of wire | B10: 1.5 | D10: =VLOOKUP($B$10,Data!$A$9:$B$14,2,FALSE) -> 16 | K10: Current | M10: =IF($B$47>0.5,"FAIL",IF($B$69>=$B$47,"OK","FAIL")) -> OK
A11: Lenght loop | B11: 1000 | K11: Addresses | M11: =IF($M$33<=200,"OK","FAIL") -> OK
A12: Fill Cable Section in mm2 and the Line Distance in meters (Yelow field) | D12: =IF(B11>3500,"Error: The Maximum Lenght in the Line is 3500 m","")
D13: =IF($B$47>0.5,"Error: The Loop Current is upper that Maximum Current allowed",IF($B$69<$B$47,"Error: The Loop Current is upper that Maximum Current allowed",""))
D14: =IF($M$33>250,"Error: The Loop cannot contain more than 200 addresses","")
B16: Fill the PCS field for the desired configuration (Yelow field) | C16: Fill the PCS field for the desired configuration (Yelow field)
A17: Devices Loop 1
A18: REF. | B18: PCS | C18: I_Standby (A) | D18: I_Standby (A) | E18: PCS_alarm | F18: I_Alarm (A) | G18: I_Alarm (A) | H18: I_Sounders (A) | I18: ISO | J18: DET | K18: MOD | L18: SND | M18: ADR
A19: JBE-2100 - MCP | B19: 0 | C19: =0.3/1000 -> 0.0003 | D19: =B19*C19 -> 0 | E19: =B19 -> 0 | F19: =1/1000 -> 0.001 | G19: =E19*F19 -> 0 | K19: =IF(B19<>0,B19," ") | M19: =IF(K19<>0,K19," ")
A20: JBE-2106 - HEAT DETECTOR | B20: 0 | C20: 0.0003 | D20: =B20*C20 -> 0 | E20: =B20 -> 0 | F20: =1/1000 -> 0.001 | G20: =E20*F20 -> 0 | J20: =IF(B20<>0,B20," ") | M20: =IF(J20<>0,J20," ")
A21: JBE-2111 - SMOKE DETECTOR | B21: 0 | C21: 0.0003 | D21: =B21*C21 -> 0 | E21: =B21 -> 0 | F21: =1/1000 -> 0.001 | G21: =E21*F21 -> 0 | J21: =IF(B21<>0,B21," ") | M21: =IF(J21<>0,J21," ")
A22: JBE-2115 - COMBO DETECTOR | B22: 0 | C22: 0.0003 | D22: =B22*C22 -> 0 | E22: =B22 -> 0 | F22: =1/1000 -> 0.001 | G22: =E22*F22 -> 0 | J22: =IF(B22<>0,B22," ") | M22: =IF(J22<>0,J22," ")
A23: JBE-2120 - INPUT MODULE | B23: 0 | C23: =0.25/1000 -> 0.00025 | D23: =B23*C23 -> 0 | E23: =B23 -> 0 | F23: =1/1000 -> 0.001 | G23: =E23*F23 -> 0 | K23: =IF(B23<>0,B23," ") | M23: =IF(K23<>0,K23," ")
A24: JBE-2125 - OUTPUT MODULE WITH FEEDBACK (Loop) | B24: 0 | C24: =0.25/1000 -> 0.00025 | D24: =B24*C24 -> 0 | E24: =B24 -> 0 | F24: =1/1000 -> 0.001 | G24: =E24*F24 -> 0 | K24: =IF(B24<>0,B24," ") | M24: =IF(K24<>0,K24," ")
A25: JBE-2125 - OUTPUT MODULE WITH FEEDBACK (External Power Supply) | B25: 0 | C25: =0.25/1000 -> 0.00025 | D25: =B25*C25 -> 0 | E25: =B25 -> 0 | F25: =0.25/1000 -> 0.00025 | G25: =E25*F25 -> 0 | K25: =IF(B25<>0,B25," ") | M25: =IF(K25<>0,K25," ")
A26: JBE-2135 - SOUNDER (External Power Supply) | B26: 0 | C26: =0.25/1000 -> 0.00025 | D26: =B26*C26 -> 0 | E26: =B26 -> 0 | F26: =0.25/1000 -> 0.00025 | G26: =E26*F26 -> 0 | H26: =IF(B26*G26=0," ",G26) | L26: =IF(B26<>0,B26," ") | M26: =IF(L26<>0,L26," ")
A27: JBE-2145 - SOUNDER - BEACON (VID) (External Power Supply) | B27: 0 | C27: =0.25/1000 -> 0.00025 | D27: =B27*C27 -> 0 | E27: =B27 -> 0 | F27: =0.25/1000 -> 0.00025 | G27: =E27*F27 -> 0 | H27: =IF(B27*G27=0," ",G27) | L27: =IF(B27<>0,B27," ") | M27: =IF(L27<>0,L27," ")
A28: JBE-2235 - SOUNDER - BEACON (VID) (Loop) | B28: 0 | C28: =0.25/1000 -> 0.00025 | D28: =B28*C28 -> 0 | E28: =B28 -> 0 | F28: =10/1000 -> 0.01 | G28: =E28*F28 -> 0 | H28: =IF(B28*G28=0," ",G28) | L28: =IF(B28<>0,B28," ") | M28: =IF(L28<>0,L28," ")
A29: JBE-2200 - ZONE MODULE (Loop) | B29: 0 | C29: =9/1000 -> 0.009 | D29: =B29*C29 -> 0 | E29: =B29 -> 0 | F29: =46/1000 -> 0.046 | G29: =E29*F29 -> 0 | K29: =IF(B29<>0,B29," ") | M29: =IF(K29<>0,K29," ")
A30: JBE-2000 - ZONE MODULE (External Power Supply) | B30: 0 | C30: =2/1000 -> 0.002 | D30: =B30*C30 -> 0 | E30: =B30 -> 0 | F30: =2/1000 -> 0.002 | G30: =E30*F30 -> 0 | K30: =IF(B30<>0,B30," ") | M30: =IF(K30<>0,K30," ")
A31: JBE-2150 - ISOLATOR MODULE | B31: 0 | C31: =0.25/1000 -> 0.00025 | D31: =B31*C31 -> 0 | E31: =B31 -> 0 | F31: =0.25/1000 -> 0.00025 | G31: =E31*F31 -> 0 | I31: =IF(B30<>0,B30," ")
A32: REMOTE INDICATOR | B32: 0 | C32: 0.000625 | D32: =B32*C32 -> 0 | E32: =B32 -> 0 | F32: =8/1000 -> 0.008 | G32: =E32*F32 -> 0
A33: Total | B33: =SUM(B19:B32) -> 0 | D33: =SUM(D19:D32) -> 0 | E33: =SUM(E19:E31) -> 0 | G33: =SUM(G19:G32) -> 0 | H33: =SUM(H19:H32) -> 0 | I33: =SUM(I19:I32) -> 0 | J33: =SUM(J19:J32) -> 0 | K33: =SUM(K19:K32) -> 0 | L33: =SUM(L19:L32) -> 0 | M33: =SUM(M19:M32) -> 0
D34: =IF(M33>200,"Error: The Loop cannot contain more than 200 addresses","")
D35: =IF(B28>30,"Error: The Loop cannot contain more than 30 Loop Sounders in 1.000 meters","")
D36: =IF(AND(B11>1000,B28>19),"Error: The Loop cannot contain more than 19 Loop Sounders in 2.000 meters","")
D37: =IF(AND(B29>6),"Error: The Loop cannot contain more than 6 Zone Modules Powered from the Loop","")
D38: =IF(OR(B25>0,B27>0,B30>0),"Info: External 24V needed. EN 54-4 certificate."," ")
D39: =IF(OR(B25>0,B27>0,B30>0)," Control Panel could provide from 24Vaux,"," ")
D40: =IF(OR(B25>0,B27>0,B30>0)," if 2A maximum current isn't exceeded."," ")
A42: Loop Parameters
A43: Cu | B43: 0.0172 | D43: Ω*mm2/m
A44: I_Standby | B44: =D33 -> 0 | D44: A
A45: I_Alarm | B45: =G33-H33 -> 0 | D45: A
A46: I_Sounders | B46: =H33 -> 0 | D46: A
A47: I_Total | B47: =SUM(B44:B46) -> 0 | D47: A
A48: V_Lin_Ring | B48: 6.9 | D48: V
A50: Minimum Cable Section for common Lenghts
A51: Lenghts | B51: 1000 | D51: 1500 | G51: 2000 | H51: 2500 | I51: 3000 | J51: 3500 | K51: m
A52: R_Cable | B52: =((($B$43*B51)/B54)*2) -> 68.8 | C52: =((($B$43*C51)/C54)*2) -> 0 | D52: =((($B$43*D51)/D54)*2) -> 103.2 | E52: =((($B$43*E51)/E54)*2) -> 0 | F52: =((($B$43*F51)/F54)*2) -> 0 | G52: =((($B$43*G51)/G54)*2) -> 137.6 | H52: =((($B$43*H51)/H54)*2) -> 172 | I52: =((($B$43*I51)/I54)*2) -> 206.4 | J52: =((($B$43*J51)/J54)*2) -> 240.8 | K52: Ω
A53: R_eq_Ring | B53: =B52/2 -> 34.4 | C53: =C52/2 -> 0 | D53: =D52/2 -> 51.6 | E53: =E52/2 -> 0 | F53: =F52/2 -> 0 | G53: =G52/2 -> 68.8 | H53: =H52/2 -> 86 | I53: =I52/2 -> 103.2 | J53: =J52/2 -> 120.4 | K53: Ω
A54: S_min | B54: =IF(IFERROR((($B$43*B$51)/(($B$48)/$B$47)),0)<0.5,0.5,IFERROR((($B$43*B$51)/(($B$48)/$B$47)),0)) -> 0.5 | C54: =IF(IFERROR((($B$43*C$51)/(($B$48)/$B$47)),0)<0.5,0.5,IFERROR((($B$43*C$51)/(($B$48)/$B$47)),0)) -> 0.5 | D54: =IF(IFERROR((($B$43*D$51)/(($B$48)/$B$47)),0)<0.5,0.5,IFERROR((($B$43*D$51)/(($B$48)/$B$47)),0)) -> 0.5 | E54: =IF(IFERROR((($B$43*E$51)/(($B$48)/$B$47)),0)<0.5,0.5,IFERROR((($B$43*E$51)/(($B$48)/$B$47)),0)) -> 0.5 | F54: =IF(IFERROR((($B$43*F$51)/(($B$48)/$B$47)),0)<0.5,0.5,IFERROR((($B$43*F$51)/(($B$48)/$B$47)),0)) -> 0.5 | G54: =IF(IFERROR((($B$43*G$51)/(($B$48)/$B$47)),0)<0.5,0.5,IFERROR((($B$43*G$51)/(($B$48)/$B$47)),0)) -> 0.5 | H54: =IF(IFERROR((($B$43*H$51)/(($B$48)/$B$47)),0)<0.5,0.5,IFERROR((($B$43*H$51)/(($B$48)/$B$47)),0)) -> 0.5 | I54: =IF(IFERROR((($B$43*I$51)/(($B$48)/$B$47)),0)<0.5,0.5,IFERROR((($B$43*I$51)/(($B$48)/$B$47)),0)) -> 0.5 | J54: =IF(IFERROR((($B$43*J$51)/(($B$48)/$B$47)),0)<0.5,0.5,IFERROR((($B$43*J$51)/(($B$48)/$B$47)),0)) -> 0.5 | K54: mm2
B55: Warning: The Minimum Cable Seccion in the Loop is 0,5 mm2
A57: Maximum Cable Lenght for Standard Cable Section (IEC 60228)
A58: Section | B58: 0.5 | D58: 0.75 | G58: 1 | H58: 1.5 | I58: 2.5 | J58: 4 | K58: mm2
A59: R_Cable | B59: =$B$43*B61/B58*2 -> 240.8 | C59: =$B$43*C61/C58*2 -> #DIV/0! | D59: =$B$43*D61/D58*2 -> 160.53333 | E59: =$B$43*E61/E58*2 -> #DIV/0! | F59: =$B$43*F61/F58*2 -> #DIV/0! | G59: =$B$43*G61/G58*2 -> 120.4 | H59: =$B$43*H61/H58*2 -> 80.266667 | I59: =$B$43*I61/I58*2 -> 48.16 | J59: =$B$43*J61/J58*2 -> 30.1 | K59: Ω
A60: R_eq_Ring | B60: =B59/2 -> 120.4 | C60: =C59/2 -> #DIV/0! | D60: =D59/2 -> 80.266667 | E60: =E59/2 -> #DIV/0! | F60: =F59/2 -> #DIV/0! | G60: =G59/2 -> 60.2 | H60: =H59/2 -> 40.133333 | I60: =I59/2 -> 24.08 | J60: =J59/2 -> 15.05 | K60: Ω
A61: L_max | B61: =IF(IFERROR((((($B$48)/$B$47)*B$58)/$B$43),9999)>3500,3500,IFERROR((((($B$48)/$B$47)*B$58)/$B$43),9999)) -> 3500 | C61: =IF(IFERROR((((($B$48)/$B$47)*C$58)/$B$43),9999)>3500,3500,IFERROR((((($B$48)/$B$47)*C$58)/$B$43),9999)) -> 3500 | D61: =IF(IFERROR((((($B$48)/$B$47)*D$58)/$B$43),9999)>3500,3500,IFERROR((((($B$48)/$B$47)*D$58)/$B$43),9999)) -> 3500 | E61: =IF(IFERROR((((($B$48)/$B$47)*E$58)/$B$43),9999)>3500,3500,IFERROR((((($B$48)/$B$47)*E$58)/$B$43),9999)) -> 3500 | F61: =IF(IFERROR((((($B$48)/$B$47)*F$58)/$B$43),9999)>3500,3500,IFERROR((((($B$48)/$B$47)*F$58)/$B$43),9999)) -> 3500 | G61: =IF(IFERROR((((($B$48)/$B$47)*G$58)/$B$43),9999)>3500,3500,IFERROR((((($B$48)/$B$47)*G$58)/$B$43),9999)) -> 3500 | H61: =IF(IFERROR((((($B$48)/$B$47)*H$58)/$B$43),9999)>3500,3500,IFERROR((((($B$48)/$B$47)*H$58)/$B$43),9999)) -> 3500 | I61: =IF(IFERROR((((($B$48)/$B$47)*I$58)/$B$43),9999)>3500,3500,IFERROR((((($B$48)/$B$47)*I$58)/$B$43),9999)) -> 3500 | J61: =IF(IFERROR((((($B$48)/$B$47)*J$58)/$B$43),9999)>3500,3500,IFERROR((((($B$48)/$B$47)*J$58)/$B$43),9999)) -> 3500 | K61: m
B62: Warning: The Maximum Cable Length in the Loop is 3.500 meters
A64: Maximum Current Calculation
A65: ? S | B65: =$B$10 -> 1.5 | D65: mm2 | H65: =IF(B65<0.5,"Error: The Minimum Cable Seccion in the Loop is 0,5 mm2","")
A66: ? L | B66: =$B$11 -> 1000 | D66: meters | H66: =IF(B66>3500,"Error: The Maximum Lenght in the Line is 3500 meters","")
A67: R_Cable_Sys | B67: =((($B$43*B66)/B65)*2) -> 22.933333 | D67: Ω
A68: R_eq_Ring_Sys | B68: =B67/2 -> 11.466667 | D68: Ω
A69: I_max | B69: =$B$48/$B$68 -> 0.60174419 | D69: A
A71: System Check
A72: Current | D72: =IF($B$47>0.5,"FAIL",IF($B$69>=$B$47,"OK","FAIL")) -> OK
A73: Addresses | D73: =IF($M$33<=200,"OK","FAIL") -> OK
D74: =IF($B$47>0.5,"Error: The Loop Current is upper that Maximum Current allowed",IF($B$69<$B$47,"Error: The Loop Current is upper that Maximum Current allowed",""))
D75: =IF($M$33>200,"Error: The Loop cannot contain more than 200 addresses","")
A77: This tool may be used as a design help for Jade Bird Fire Alarm International (Europe) S.L. We reserve the right not to be responsible for its accuracy, completeness or quality of the information provided, including any kind of information which could be incomplete or incorrect.

Sheet SC_Loop 5
C1: HIDE | E1: HIDE | F1: HIDE
A7: SYSTEM CALCULATOR JADE BIRD JBE-P2L1 EXCEL TOOL | M7: LC 2023 22a
A9: Loop | K9: System Check
A10: Section of wire | B10: 1.5 | D10: =VLOOKUP($B$10,Data!$A$9:$B$14,2,FALSE) -> 16 | K10: Current | M10: =IF($B$47>0.5,"FAIL",IF($B$69>=$B$47,"OK","FAIL")) -> OK
A11: Lenght loop | B11: 1000 | K11: Addresses | M11: =IF($M$33<=200,"OK","FAIL") -> OK
A12: Fill Cable Section in mm2 and the Line Distance in meters (Yelow field) | D12: =IF(B11>3500,"Error: The Maximum Lenght in the Line is 3500 m","")
D13: =IF($B$47>0.5,"Error: The Loop Current is upper that Maximum Current allowed",IF($B$69<$B$47,"Error: The Loop Current is upper that Maximum Current allowed",""))
D14: =IF($M$33>250,"Error: The Loop cannot contain more than 200 addresses","")
B16: Fill the PCS field for the desired configuration (Yelow field) | C16: Fill the PCS field for the desired configuration (Yelow field)
A17: Devices Loop 1
A18: REF. | B18: PCS | C18: I_Standby (A) | D18: I_Standby (A) | E18: PCS_alarm | F18: I_Alarm (A) | G18: I_Alarm (A) | H18: I_Sounders (A) | I18: ISO | J18: DET | K18: MOD | L18: SND | M18: ADR
A19: JBE-2100 - MCP | B19: 0 | C19: =0.3/1000 -> 0.0003 | D19: =B19*C19 -> 0 | E19: =B19 -> 0 | F19: =1/1000 -> 0.001 | G19: =E19*F19 -> 0 | K19: =IF(B19<>0,B19," ") | M19: =IF(K19<>0,K19," ")
A20: JBE-2106 - HEAT DETECTOR | B20: 0 | C20: 0.0003 | D20: =B20*C20 -> 0 | E20: =B20 -> 0 | F20: =1/1000 -> 0.001 | G20: =E20*F20 -> 0 | J20: =IF(B20<>0,B20," ") | M20: =IF(J20<>0,J20," ")
A21: JBE-2111 - SMOKE DETECTOR | B21: 0 | C21: 0.0003 | D21: =B21*C21 -> 0 | E21: =B21 -> 0 | F21: =1/1000 -> 0.001 | G21: =E21*F21 -> 0 | J21: =IF(B21<>0,B21," ") | M21: =IF(J21<>0,J21," ")
A22: JBE-2115 - COMBO DETECTOR | B22: 0 | C22: 0.0003 | D22: =B22*C22 -> 0 | E22: =B22 -> 0 | F22: =1/1000 -> 0.001 | G22: =E22*F22 -> 0 | J22: =IF(B22<>0,B22," ") | M22: =IF(J22<>0,J22," ")
A23: JBE-2120 - INPUT MODULE | B23: 0 | C23: =0.25/1000 -> 0.00025 | D23: =B23*C23 -> 0 | E23: =B23 -> 0 | F23: =1/1000 -> 0.001 | G23: =E23*F23 -> 0 | K23: =IF(B23<>0,B23," ") | M23: =IF(K23<>0,K23," ")
A24: JBE-2125 - OUTPUT MODULE WITH FEEDBACK (Loop) | B24: 0 | C24: =0.25/1000 -> 0.00025 | D24: =B24*C24 -> 0 | E24: =B24 -> 0 | F24: =1/1000 -> 0.001 | G24: =E24*F24 -> 0 | K24: =IF(B24<>0,B24," ") | M24: =IF(K24<>0,K24," ")
A25: JBE-2125 - OUTPUT MODULE WITH FEEDBACK (External Power Supply) | B25: 0 | C25: =0.25/1000 -> 0.00025 | D25: =B25*C25 -> 0 | E25: =B25 -> 0 | F25: =0.25/1000 -> 0.00025 | G25: =E25*F25 -> 0 | K25: =IF(B25<>0,B25," ") | M25: =IF(K25<>0,K25," ")
A26: JBE-2135 - SOUNDER (External Power Supply) | B26: 0 | C26: =0.25/1000 -> 0.00025 | D26: =B26*C26 -> 0 | E26: =B26 -> 0 | F26: =0.25/1000 -> 0.00025 | G26: =E26*F26 -> 0 | H26: =IF(B26*G26=0," ",G26) | L26: =IF(B26<>0,B26," ") | M26: =IF(L26<>0,L26," ")
A27: JBE-2145 - SOUNDER - BEACON (VID) (External Power Supply) | B27: 0 | C27: =0.25/1000 -> 0.00025 | D27: =B27*C27 -> 0 | E27: =B27 -> 0 | F27: =0.25/1000 -> 0.00025 | G27: =E27*F27 -> 0 | H27: =IF(B27*G27=0," ",G27) | L27: =IF(B27<>0,B27," ") | M27: =IF(L27<>0,L27," ")
A28: JBE-2235 - SOUNDER - BEACON (VID) (Loop) | B28: 0 | C28: =0.25/1000 -> 0.00025 | D28: =B28*C28 -> 0 | E28: =B28 -> 0 | F28: =10/1000 -> 0.01 | G28: =E28*F28 -> 0 | H28: =IF(B28*G28=0," ",G28) | L28: =IF(B28<>0,B28," ") | M28: =IF(L28<>0,L28," ")
A29: JBE-2200 - ZONE MODULE (Loop) | B29: 0 | C29: =9/1000 -> 0.009 | D29: =B29*C29 -> 0 | E29: =B29 -> 0 | F29: =46/1000 -> 0.046 | G29: =E29*F29 -> 0 | K29: =IF(B29<>0,B29," ") | M29: =IF(K29<>0,K29," ")
A30: JBE-2000 - ZONE MODULE (External Power Supply) | B30: 0 | C30: =2/1000 -> 0.002 | D30: =B30*C30 -> 0 | E30: =B30 -> 0 | F30: =2/1000 -> 0.002 | G30: =E30*F30 -> 0 | K30: =IF(B30<>0,B30," ") | M30: =IF(K30<>0,K30," ")
A31: JBE-2150 - ISOLATOR MODULE | B31: 0 | C31: =0.25/1000 -> 0.00025 | D31: =B31*C31 -> 0 | E31: =B31 -> 0 | F31: =0.25/1000 -> 0.00025 | G31: =E31*F31 -> 0 | I31: =IF(B30<>0,B30," ")
A32: REMOTE INDICATOR | B32: 0 | C32: 0.000625 | D32: =B32*C32 -> 0 | E32: =B32 -> 0 | F32: =8/1000 -> 0.008 | G32: =E32*F32 -> 0
A33: Total | B33: =SUM(B19:B32) -> 0 | D33: =SUM(D19:D32) -> 0 | E33: =SUM(E19:E31) -> 0 | G33: =SUM(G19:G32) -> 0 | H33: =SUM(H19:H32) -> 0 | I33: =SUM(I19:I32) -> 0 | J33: =SUM(J19:J32) -> 0 | K33: =SUM(K19:K32) -> 0 | L33: =SUM(L19:L32) -> 0 | M33: =SUM(M19:M32) -> 0
D34: =IF(M33>200,"Error: The Loop cannot contain more than 200 addresses","")
D35: =IF(B28>30,"Error: The Loop cannot contain more than 30 Loop Sounders in 1.000 meters","")
D36: =IF(AND(B11>1000,B28>19),"Error: The Loop cannot contain more than 19 Loop Sounders in 2.000 meters","")
D37: =IF(AND(B29>6),"Error: The Loop cannot contain more than 6 Zone Modules Powered from the Loop","")
D38: =IF(OR(B25>0,B27>0,B30>0),"Info: External 24V needed. EN 54-4 certificate."," ")
D39: =IF(OR(B25>0,B27>0,B30>0)," Control Panel could provide from 24Vaux,"," ")
D40: =IF(OR(B25>0,B27>0,B30>0)," if 2A maximum current isn't exceeded."," ")
A42: Loop Parameters
A43: Cu | B43: 0.0172 | D43: Ω*mm2/m
A44: I_Standby | B44: =D33 -> 0 | D44: A
A45: I_Alarm | B45: =G33-H33 -> 0 | D45: A
A46: I_Sounders | B46: =H33 -> 0 | D46: A
A47: I_Total | B47: =SUM(B44:B46) -> 0 | D47: A
A48: V_Lin_Ring | B48: 6.9 | D48: V
A50: Minimum Cable Section for common Lenghts
A51: Lenghts | B51: 1000 | D51: 1500 | G51: 2000 | H51: 2500 | I51: 3000 | J51: 3500 | K51: m
A52: R_Cable | B52: =((($B$43*B51)/B54)*2) -> 68.8 | C52: =((($B$43*C51)/C54)*2) -> 0 | D52: =((($B$43*D51)/D54)*2) -> 103.2 | E52: =((($B$43*E51)/E54)*2) -> 0 | F52: =((($B$43*F51)/F54)*2) -> 0 | G52: =((($B$43*G51)/G54)*2) -> 137.6 | H52: =((($B$43*H51)/H54)*2) -> 172 | I52: =((($B$43*I51)/I54)*2) -> 206.4 | J52: =((($B$43*J51)/J54)*2) -> 240.8 | K52: Ω
A53: R_eq_Ring | B53: =B52/2 -> 34.4 | C53: =C52/2 -> 0 | D53: =D52/2 -> 51.6 | E53: =E52/2 -> 0 | F53: =F52/2 -> 0 | G53: =G52/2 -> 68.8 | H53: =H52/2 -> 86 | I53: =I52/2 -> 103.2 | J53: =J52/2 -> 120.4 | K53: Ω
A54: S_min | B54: =IF(IFERROR((($B$43*B$51)/(($B$48)/$B$47)),0)<0.5,0.5,IFERROR((($B$43*B$51)/(($B$48)/$B$47)),0)) -> 0.5 | C54: =IF(IFERROR((($B$43*C$51)/(($B$48)/$B$47)),0)<0.5,0.5,IFERROR((($B$43*C$51)/(($B$48)/$B$47)),0)) -> 0.5 | D54: =IF(IFERROR((($B$43*D$51)/(($B$48)/$B$47)),0)<0.5,0.5,IFERROR((($B$43*D$51)/(($B$48)/$B$47)),0)) -> 0.5 | E54: =IF(IFERROR((($B$43*E$51)/(($B$48)/$B$47)),0)<0.5,0.5,IFERROR((($B$43*E$51)/(($B$48)/$B$47)),0)) -> 0.5 | F54: =IF(IFERROR((($B$43*F$51)/(($B$48)/$B$47)),0)<0.5,0.5,IFERROR((($B$43*F$51)/(($B$48)/$B$47)),0)) -> 0.5 | G54: =IF(IFERROR((($B$43*G$51)/(($B$48)/$B$47)),0)<0.5,0.5,IFERROR((($B$43*G$51)/(($B$48)/$B$47)),0)) -> 0.5 | H54: =IF(IFERROR((($B$43*H$51)/(($B$48)/$B$47)),0)<0.5,0.5,IFERROR((($B$43*H$51)/(($B$48)/$B$47)),0)) -> 0.5 | I54: =IF(IFERROR((($B$43*I$51)/(($B$48)/$B$47)),0)<0.5,0.5,IFERROR((($B$43*I$51)/(($B$48)/$B$47)),0)) -> 0.5 | J54: =IF(IFERROR((($B$43*J$51)/(($B$48)/$B$47)),0)<0.5,0.5,IFERROR((($B$43*J$51)/(($B$48)/$B$47)),0)) -> 0.5 | K54: mm2
B55: Warning: The Minimum Cable Seccion in the Loop is 0,5 mm2
A57: Maximum Cable Lenght for Standard Cable Section (IEC 60228)
A58: Section | B58: 0.5 | D58: 0.75 | G58: 1 | H58: 1.5 | I58: 2.5 | J58: 4 | K58: mm2
A59: R_Cable | B59: =$B$43*B61/B58*2 -> 240.8 | C59: =$B$43*C61/C58*2 -> #DIV/0! | D59: =$B$43*D61/D58*2 -> 160.53333 | E59: =$B$43*E61/E58*2 -> #DIV/0! | F59: =$B$43*F61/F58*2 -> #DIV/0! | G59: =$B$43*G61/G58*2 -> 120.4 | H59: =$B$43*H61/H58*2 -> 80.266667 | I59: =$B$43*I61/I58*2 -> 48.16 | J59: =$B$43*J61/J58*2 -> 30.1 | K59: Ω
A60: R_eq_Ring | B60: =B59/2 -> 120.4 | C60: =C59/2 -> #DIV/0! | D60: =D59/2 -> 80.266667 | E60: =E59/2 -> #DIV/0! | F60: =F59/2 -> #DIV/0! | G60: =G59/2 -> 60.2 | H60: =H59/2 -> 40.133333 | I60: =I59/2 -> 24.08 | J60: =J59/2 -> 15.05 | K60: Ω
A61: L_max | B61: =IF(IFERROR((((($B$48)/$B$47)*B$58)/$B$43),9999)>3500,3500,IFERROR((((($B$48)/$B$47)*B$58)/$B$43),9999)) -> 3500 | C61: =IF(IFERROR((((($B$48)/$B$47)*C$58)/$B$43),9999)>3500,3500,IFERROR((((($B$48)/$B$47)*C$58)/$B$43),9999)) -> 3500 | D61: =IF(IFERROR((((($B$48)/$B$47)*D$58)/$B$43),9999)>3500,3500,IFERROR((((($B$48)/$B$47)*D$58)/$B$43),9999)) -> 3500 | E61: =IF(IFERROR((((($B$48)/$B$47)*E$58)/$B$43),9999)>3500,3500,IFERROR((((($B$48)/$B$47)*E$58)/$B$43),9999)) -> 3500 | F61: =IF(IFERROR((((($B$48)/$B$47)*F$58)/$B$43),9999)>3500,3500,IFERROR((((($B$48)/$B$47)*F$58)/$B$43),9999)) -> 3500 | G61: =IF(IFERROR((((($B$48)/$B$47)*G$58)/$B$43),9999)>3500,3500,IFERROR((((($B$48)/$B$47)*G$58)/$B$43),9999)) -> 3500 | H61: =IF(IFERROR((((($B$48)/$B$47)*H$58)/$B$43),9999)>3500,3500,IFERROR((((($B$48)/$B$47)*H$58)/$B$43),9999)) -> 3500 | I61: =IF(IFERROR((((($B$48)/$B$47)*I$58)/$B$43),9999)>3500,3500,IFERROR((((($B$48)/$B$47)*I$58)/$B$43),9999)) -> 3500 | J61: =IF(IFERROR((((($B$48)/$B$47)*J$58)/$B$43),9999)>3500,3500,IFERROR((((($B$48)/$B$47)*J$58)/$B$43),9999)) -> 3500 | K61: m
B62: Warning: The Maximum Cable Length in the Loop is 3.500 meters
A64: Maximum Current Calculation
A65: ? S | B65: =$B$10 -> 1.5 | D65: mm2 | H65: =IF(B65<0.5,"Error: The Minimum Cable Seccion in the Loop is 0,5 mm2","")
A66: ? L | B66: =$B$11 -> 1000 | D66: meters | H66: =IF(B66>3500,"Error: The Maximum Lenght in the Line is 3500 meters","")
A67: R_Cable_Sys | B67: =((($B$43*B66)/B65)*2) -> 22.933333 | D67: Ω
A68: R_eq_Ring_Sys | B68: =B67/2 -> 11.466667 | D68: Ω
A69: I_max | B69: =$B$48/$B$68 -> 0.60174419 | D69: A
A71: System Check
A72: Current | D72: =IF($B$47>0.5,"FAIL",IF($B$69>=$B$47,"OK","FAIL")) -> OK
A73: Addresses | D73: =IF($M$33<=200,"OK","FAIL") -> OK
D74: =IF($B$47>0.5,"Error: The Loop Current is upper that Maximum Current allowed",IF($B$69<$B$47,"Error: The Loop Current is upper that Maximum Current allowed",""))
D75: =IF($M$33>200,"Error: The Loop cannot contain more than 200 addresses","")
A77: This tool may be used as a design help for Jade Bird Fire Alarm International (Europe) S.L. We reserve the right not to be responsible for its accuracy, completeness or quality of the information provided, including any kind of information which could be incomplete or incorrect.

Sheet SC_Loop 6
C1: HIDE | E1: HIDE | F1: HIDE
A7: SYSTEM CALCULATOR JADE BIRD JBE-P2L1 EXCEL TOOL | M7: LC 2023 22a
A9: Loop | K9: System Check
A10: Section of wire | B10: 1.5 | D10: =VLOOKUP($B$10,Data!$A$9:$B$14,2,FALSE) -> 16 | K10: Current | M10: =IF($B$47>0.5,"FAIL",IF($B$69>=$B$47,"OK","FAIL")) -> OK
A11: Lenght loop | B11: 1000 | K11: Addresses | M11: =IF($M$33<=200,"OK","FAIL") -> OK
A12: Fill Cable Section in mm2 and the Line Distance in meters (Yelow field) | D12: =IF(B11>3500,"Error: The Maximum Lenght in the Line is 3500 m","")
D13: =IF($B$47>0.5,"Error: The Loop Current is upper that Maximum Current allowed",IF($B$69<$B$47,"Error: The Loop Current is upper that Maximum Current allowed",""))
D14: =IF($M$33>250,"Error: The Loop cannot contain more than 200 addresses","")
B16: Fill the PCS field for the desired configuration (Yelow field) | C16: Fill the PCS field for the desired configuration (Yelow field)
A17: Devices Loop 1
A18: REF. | B18: PCS | C18: I_Standby (A) | D18: I_Standby (A) | E18: PCS_alarm | F18: I_Alarm (A) | G18: I_Alarm (A) | H18: I_Sounders (A) | I18: ISO | J18: DET | K18: MOD | L18: SND | M18: ADR
A19: JBE-2100 - MCP | B19: 0 | C19: =0.3/1000 -> 0.0003 | D19: =B19*C19 -> 0 | E19: =B19 -> 0 | F19: =1/1000 -> 0.001 | G19: =E19*F19 -> 0 | K19: =IF(B19<>0,B19," ") | M19: =IF(K19<>0,K19," ")
A20: JBE-2106 - HEAT DETECTOR | B20: 0 | C20: 0.0003 | D20: =B20*C20 -> 0 | E20: =B20 -> 0 | F20: =1/1000 -> 0.001 | G20: =E20*F20 -> 0 | J20: =IF(B20<>0,B20," ") | M20: =IF(J20<>0,J20," ")
A21: JBE-2111 - SMOKE DETECTOR | B21: 0 | C21: 0.0003 | D21: =B21*C21 -> 0 | E21: =B21 -> 0 | F21: =1/1000 -> 0.001 | G21: =E21*F21 -> 0 | J21: =IF(B21<>0,B21," ") | M21: =IF(J21<>0,J21," ")
A22: JBE-2115 - COMBO DETECTOR | B22: 0 | C22: 0.0003 | D22: =B22*C22 -> 0 | E22: =B22 -> 0 | F22: =1/1000 -> 0.001 | G22: =E22*F22 -> 0 | J22: =IF(B22<>0,B22," ") | M22: =IF(J22<>0,J22," ")
A23: JBE-2120 - INPUT MODULE | B23: 0 | C23: =0.25/1000 -> 0.00025 | D23: =B23*C23 -> 0 | E23: =B23 -> 0 | F23: =1/1000 -> 0.001 | G23: =E23*F23 -> 0 | K23: =IF(B23<>0,B23," ") | M23: =IF(K23<>0,K23," ")
A24: JBE-2125 - OUTPUT MODULE WITH FEEDBACK (Loop) | B24: 0 | C24: =0.25/1000 -> 0.00025 | D24: =B24*C24 -> 0 | E24: =B24 -> 0 | F24: =1/1000 -> 0.001 | G24: =E24*F24 -> 0 | K24: =IF(B24<>0,B24," ") | M24: =IF(K24<>0,K24," ")
A25: JBE-2125 - OUTPUT MODULE WITH FEEDBACK (External Power Supply) | B25: 0 | C25: =0.25/1000 -> 0.00025 | D25: =B25*C25 -> 0 | E25: =B25 -> 0 | F25: =0.25/1000 -> 0.00025 | G25: =E25*F25 -> 0 | K25: =IF(B25<>0,B25," ") | M25: =IF(K25<>0,K25," ")
A26: JBE-2135 - SOUNDER (External Power Supply) | B26: 0 | C26: =0.25/1000 -> 0.00025 | D26: =B26*C26 -> 0 | E26: =B26 -> 0 | F26: =0.25/1000 -> 0.00025 | G26: =E26*F26 -> 0 | H26: =IF(B26*G26=0," ",G26) | L26: =IF(B26<>0,B26," ") | M26: =IF(L26<>0,L26," ")
A27: JBE-2145 - SOUNDER - BEACON (VID) (External Power Supply) | B27: 0 | C27: =0.25/1000 -> 0.00025 | D27: =B27*C27 -> 0 | E27: =B27 -> 0 | F27: =0.25/1000 -> 0.00025 | G27: =E27*F27 -> 0 | H27: =IF(B27*G27=0," ",G27) | L27: =IF(B27<>0,B27," ") | M27: =IF(L27<>0,L27," ")
A28: JBE-2235 - SOUNDER - BEACON (VID) (Loop) | B28: 0 | C28: =0.25/1000 -> 0.00025 | D28: =B28*C28 -> 0 | E28: =B28 -> 0 | F28: =10/1000 -> 0.01 | G28: =E28*F28 -> 0 | H28: =IF(B28*G28=0," ",G28) | L28: =IF(B28<>0,B28," ") | M28: =IF(L28<>0,L28," ")
A29: JBE-2200 - ZONE MODULE (Loop) | B29: 0 | C29: =9/1000 -> 0.009 | D29: =B29*C29 -> 0 | E29: =B29 -> 0 | F29: =46/1000 -> 0.046 | G29: =E29*F29 -> 0 | K29: =IF(B29<>0,B29," ") | M29: =IF(K29<>0,K29," ")
A30: JBE-2000 - ZONE MODULE (External Power Supply) | B30: 0 | C30: =2/1000 -> 0.002 | D30: =B30*C30 -> 0 | E30: =B30 -> 0 | F30: =2/1000 -> 0.002 | G30: =E30*F30 -> 0 | K30: =IF(B30<>0,B30," ") | M30: =IF(K30<>0,K30," ")
A31: JBE-2150 - ISOLATOR MODULE | B31: 0 | C31: =0.25/1000 -> 0.00025 | D31: =B31*C31 -> 0 | E31: =B31 -> 0 | F31: =0.25/1000 -> 0.00025 | G31: =E31*F31 -> 0 | I31: =IF(B30<>0,B30," ")
A32: REMOTE INDICATOR | B32: 0 | C32: 0.000625 | D32: =B32*C32 -> 0 | E32: =B32 -> 0 | F32: =8/1000 -> 0.008 | G32: =E32*F32 -> 0
A33: Total | B33: =SUM(B19:B32) -> 0 | D33: =SUM(D19:D32) -> 0 | E33: =SUM(E19:E31) -> 0 | G33: =SUM(G19:G32) -> 0 | H33: =SUM(H19:H32) -> 0 | I33: =SUM(I19:I32) -> 0 | J33: =SUM(J19:J32) -> 0 | K33: =SUM(K19:K32) -> 0 | L33: =SUM(L19:L32) -> 0 | M33: =SUM(M19:M32) -> 0
D34: =IF(M33>200,"Error: The Loop cannot contain more than 200 addresses","")
D35: =IF(B28>30,"Error: The Loop cannot contain more than 30 Loop Sounders in 1.000 meters","")
D36: =IF(AND(B11>1000,B28>19),"Error: The Loop cannot contain more than 19 Loop Sounders in 2.000 meters","")
D37: =IF(AND(B29>6),"Error: The Loop cannot contain more than 6 Zone Modules Powered from the Loop","")
D38: =IF(OR(B25>0,B27>0,B30>0),"Info: External 24V needed. EN 54-4 certificate."," ")
D39: =IF(OR(B25>0,B27>0,B30>0)," Control Panel could provide from 24Vaux,"," ")
D40: =IF(OR(B25>0,B27>0,B30>0)," if 2A maximum current isn't exceeded."," ")
A42: Loop Parameters
A43: Cu | B43: 0.0172 | D43: Ω*mm2/m
A44: I_Standby | B44: =D33 -> 0 | D44: A
A45: I_Alarm | B45: =G33-H33 -> 0 | D45: A
A46: I_Sounders | B46: =H33 -> 0 | D46: A
A47: I_Total | B47: =SUM(B44:B46) -> 0 | D47: A
A48: V_Lin_Ring | B48: 6.9 | D48: V
A50: Minimum Cable Section for common Lenghts
A51: Lenghts | B51: 1000 | D51: 1500 | G51: 2000 | H51: 2500 | I51: 3000 | J51: 3500 | K51: m
A52: R_Cable | B52: =((($B$43*B51)/B54)*2) -> 68.8 | C52: =((($B$43*C51)/C54)*2) -> 0 | D52: =((($B$43*D51)/D54)*2) -> 103.2 | E52: =((($B$43*E51)/E54)*2) -> 0 | F52: =((($B$43*F51)/F54)*2) -> 0 | G52: =((($B$43*G51)/G54)*2) -> 137.6 | H52: =((($B$43*H51)/H54)*2) -> 172 | I52: =((($B$43*I51)/I54)*2) -> 206.4 | J52: =((($B$43*J51)/J54)*2) -> 240.8 | K52: Ω
A53: R_eq_Ring | B53: =B52/2 -> 34.4 | C53: =C52/2 -> 0 | D53: =D52/2 -> 51.6 | E53: =E52/2 -> 0 | F53: =F52/2 -> 0 | G53: =G52/2 -> 68.8 | H53: =H52/2 -> 86 | I53: =I52/2 -> 103.2 | J53: =J52/2 -> 120.4 | K53: Ω
A54: S_min | B54: =IF(IFERROR((($B$43*B$51)/(($B$48)/$B$47)),0)<0.5,0.5,IFERROR((($B$43*B$51)/(($B$48)/$B$47)),0)) -> 0.5 | C54: =IF(IFERROR((($B$43*C$51)/(($B$48)/$B$47)),0)<0.5,0.5,IFERROR((($B$43*C$51)/(($B$48)/$B$47)),0)) -> 0.5 | D54: =IF(IFERROR((($B$43*D$51)/(($B$48)/$B$47)),0)<0.5,0.5,IFERROR((($B$43*D$51)/(($B$48)/$B$47)),0)) -> 0.5 | E54: =IF(IFERROR((($B$43*E$51)/(($B$48)/$B$47)),0)<0.5,0.5,IFERROR((($B$43*E$51)/(($B$48)/$B$47)),0)) -> 0.5 | F54: =IF(IFERROR((($B$43*F$51)/(($B$48)/$B$47)),0)<0.5,0.5,IFERROR((($B$43*F$51)/(($B$48)/$B$47)),0)) -> 0.5 | G54: =IF(IFERROR((($B$43*G$51)/(($B$48)/$B$47)),0)<0.5,0.5,IFERROR((($B$43*G$51)/(($B$48)/$B$47)),0)) -> 0.5 | H54: =IF(IFERROR((($B$43*H$51)/(($B$48)/$B$47)),0)<0.5,0.5,IFERROR((($B$43*H$51)/(($B$48)/$B$47)),0)) -> 0.5 | I54: =IF(IFERROR((($B$43*I$51)/(($B$48)/$B$47)),0)<0.5,0.5,IFERROR((($B$43*I$51)/(($B$48)/$B$47)),0)) -> 0.5 | J54: =IF(IFERROR((($B$43*J$51)/(($B$48)/$B$47)),0)<0.5,0.5,IFERROR((($B$43*J$51)/(($B$48)/$B$47)),0)) -> 0.5 | K54: mm2
B55: Warning: The Minimum Cable Seccion in the Loop is 0,5 mm2
A57: Maximum Cable Lenght for Standard Cable Section (IEC 60228)
A58: Section | B58: 0.5 | D58: 0.75 | G58: 1 | H58: 1.5 | I58: 2.5 | J58: 4 | K58: mm2
A59: R_Cable | B59: =$B$43*B61/B58*2 -> 240.8 | C59: =$B$43*C61/C58*2 -> #DIV/0! | D59: =$B$43*D61/D58*2 -> 160.53333 | E59: =$B$43*E61/E58*2 -> #DIV/0! | F59: =$B$43*F61/F58*2 -> #DIV/0! | G59: =$B$43*G61/G58*2 -> 120.4 | H59: =$B$43*H61/H58*2 -> 80.266667 | I59: =$B$43*I61/I58*2 -> 48.16 | J59: =$B$43*J61/J58*2 -> 30.1 | K59: Ω
A60: R_eq_Ring | B60: =B59/2 -> 120.4 | C60: =C59/2 -> #DIV/0! | D60: =D59/2 -> 80.266667 | E60: =E59/2 -> #DIV/0! | F60: =F59/2 -> #DIV/0! | G60: =G59/2 -> 60.2 | H60: =H59/2 -> 40.133333 | I60: =I59/2 -> 24.08 | J60: =J59/2 -> 15.05 | K60: Ω
A61: L_max | B61: =IF(IFERROR((((($B$48)/$B$47)*B$58)/$B$43),9999)>3500,3500,IFERROR((((($B$48)/$B$47)*B$58)/$B$43),9999)) -> 3500 | C61: =IF(IFERROR((((($B$48)/$B$47)*C$58)/$B$43),9999)>3500,3500,IFERROR((((($B$48)/$B$47)*C$58)/$B$43),9999)) -> 3500 | D61: =IF(IFERROR((((($B$48)/$B$47)*D$58)/$B$43),9999)>3500,3500,IFERROR((((($B$48)/$B$47)*D$58)/$B$43),9999)) -> 3500 | E61: =IF(IFERROR((((($B$48)/$B$47)*E$58)/$B$43),9999)>3500,3500,IFERROR((((($B$48)/$B$47)*E$58)/$B$43),9999)) -> 3500 | F61: =IF(IFERROR((((($B$48)/$B$47)*F$58)/$B$43),9999)>3500,3500,IFERROR((((($B$48)/$B$47)*F$58)/$B$43),9999)) -> 3500 | G61: =IF(IFERROR((((($B$48)/$B$47)*G$58)/$B$43),9999)>3500,3500,IFERROR((((($B$48)/$B$47)*G$58)/$B$43),9999)) -> 3500 | H61: =IF(IFERROR((((($B$48)/$B$47)*H$58)/$B$43),9999)>3500,3500,IFERROR((((($B$48)/$B$47)*H$58)/$B$43),9999)) -> 3500 | I61: =IF(IFERROR((((($B$48)/$B$47)*I$58)/$B$43),9999)>3500,3500,IFERROR((((($B$48)/$B$47)*I$58)/$B$43),9999)) -> 3500 | J61: =IF(IFERROR((((($B$48)/$B$47)*J$58)/$B$43),9999)>3500,3500,IFERROR((((($B$48)/$B$47)*J$58)/$B$43),9999)) -> 3500 | K61: m
B62: Warning: The Maximum Cable Length in the Loop is 3.500 meters
A64: Maximum Current Calculation
A65: ? S | B65: =$B$10 -> 1.5 | D65: mm2 | H65: =IF(B65<0.5,"Error: The Minimum Cable Seccion in the Loop is 0,5 mm2","")
A66: ? L | B66: =$B$11 -> 1000 | D66: meters | H66: =IF(B66>3500,"Error: The Maximum Lenght in the Line is 3500 meters","")
A67: R_Cable_Sys | B67: =((($B$43*B66)/B65)*2) -> 22.933333 | D67: Ω
A68: R_eq_Ring_Sys | B68: =B67/2 -> 11.466667 | D68: Ω
A69: I_max | B69: =$B$48/$B$68 -> 0.60174419 | D69: A
A71: System Check
A72: Current | D72: =IF($B$47>0.5,"FAIL",IF($B$69>=$B$47,"OK","FAIL")) -> OK
A73: Addresses | D73: =IF($M$33<=200,"OK","FAIL") -> OK
D74: =IF($B$47>0.5,"Error: The Loop Current is upper that Maximum Current allowed",IF($B$69<$B$47,"Error: The Loop Current is upper that Maximum Current allowed",""))
D75: =IF($M$33>200,"Error: The Loop cannot contain more than 200 addresses","")
A77: This tool may be used as a design help for Jade Bird Fire Alarm International (Europe) S.L. We reserve the right not to be responsible for its accuracy, completeness or quality of the information provided, including any kind of information which could be incomplete or incorrect.

Sheet SC_Loop 7
C1: HIDE | E1: HIDE | F1: HIDE
A7: SYSTEM CALCULATOR JADE BIRD JBE-P2L1 EXCEL TOOL | M7: LC 2023 22a
A9: Loop | K9: System Check
A10: Section of wire | B10: 1.5 | D10: =VLOOKUP($B$10,Data!$A$9:$B$14,2,FALSE) -> 16 | K10: Current | M10: =IF($B$47>0.5,"FAIL",IF($B$69>=$B$47,"OK","FAIL")) -> OK
A11: Lenght loop | B11: 1000 | K11: Addresses | M11: =IF($M$33<=200,"OK","FAIL") -> OK
A12: Fill Cable Section in mm2 and the Line Distance in meters (Yelow field) | D12: =IF(B11>3500,"Error: The Maximum Lenght in the Line is 3500 m","")
D13: =IF($B$47>0.5,"Error: The Loop Current is upper that Maximum Current allowed",IF($B$69<$B$47,"Error: The Loop Current is upper that Maximum Current allowed",""))
D14: =IF($M$33>250,"Error: The Loop cannot contain more than 200 addresses","")
B16: Fill the PCS field for the desired configuration (Yelow field) | C16: Fill the PCS field for the desired configuration (Yelow field)
A17: Devices Loop 1
A18: REF. | B18: PCS | C18: I_Standby (A) | D18: I_Standby (A) | E18: PCS_alarm | F18: I_Alarm (A) | G18: I_Alarm (A) | H18: I_Sounders (A) | I18: ISO | J18: DET | K18: MOD | L18: SND | M18: ADR
A19: JBE-2100 - MCP | B19: 0 | C19: =0.3/1000 -> 0.0003 | D19: =B19*C19 -> 0 | E19: =B19 -> 0 | F19: =1/1000 -> 0.001 | G19: =E19*F19 -> 0 | K19: =IF(B19<>0,B19," ") | M19: =IF(K19<>0,K19," ")
A20: JBE-2106 - HEAT DETECTOR | B20: 0 | C20: 0.0003 | D20: =B20*C20 -> 0 | E20: =B20 -> 0 | F20: =1/1000 -> 0.001 | G20: =E20*F20 -> 0 | J20: =IF(B20<>0,B20," ") | M20: =IF(J20<>0,J20," ")
A21: JBE-2111 - SMOKE DETECTOR | B21: 0 | C21: 0.0003 | D21: =B21*C21 -> 0 | E21: =B21 -> 0 | F21: =1/1000 -> 0.001 | G21: =E21*F21 -> 0 | J21: =IF(B21<>0,B21," ") | M21: =IF(J21<>0,J21," ")
A22: JBE-2115 - COMBO DETECTOR | B22: 0 | C22: 0.0003 | D22: =B22*C22 -> 0 | E22: =B22 -> 0 | F22: =1/1000 -> 0.001 | G22: =E22*F22 -> 0 | J22: =IF(B22<>0,B22," ") | M22: =IF(J22<>0,J22," ")
A23: JBE-2120 - INPUT MODULE | B23: 0 | C23: =0.25/1000 -> 0.00025 | D23: =B23*C23 -> 0 | E23: =B23 -> 0 | F23: =1/1000 -> 0.001 | G23: =E23*F23 -> 0 | K23: =IF(B23<>0,B23," ") | M23: =IF(K23<>0,K23," ")
A24: JBE-2125 - OUTPUT MODULE WITH FEEDBACK (Loop) | B24: 0 | C24: =0.25/1000 -> 0.00025 | D24: =B24*C24 -> 0 | E24: =B24 -> 0 | F24: =1/1000 -> 0.001 | G24: =E24*F24 -> 0 | K24: =IF(B24<>0,B24," ") | M24: =IF(K24<>0,K24," ")
A25: JBE-2125 - OUTPUT MODULE WITH FEEDBACK (External Power Supply) | B25: 0 | C25: =0.25/1000 -> 0.00025 | D25: =B25*C25 -> 0 | E25: =B25 -> 0 | F25: =0.25/1000 -> 0.00025 | G25: =E25*F25 -> 0 | K25: =IF(B25<>0,B25," ") | M25: =IF(K25<>0,K25," ")
A26: JBE-2135 - SOUNDER (External Power Supply) | B26: 0 | C26: =0.25/1000 -> 0.00025 | D26: =B26*C26 -> 0 | E26: =B26 -> 0 | F26: =0.25/1000 -> 0.00025 | G26: =E26*F26 -> 0 | H26: =IF(B26*G26=0," ",G26) | L26: =IF(B26<>0,B26," ") | M26: =IF(L26<>0,L26," ")
A27: JBE-2145 - SOUNDER - BEACON (VID) (External Power Supply) | B27: 0 | C27: =0.25/1000 -> 0.00025 | D27: =B27*C27 -> 0 | E27: =B27 -> 0 | F27: =0.25/1000 -> 0.00025 | G27: =E27*F27 -> 0 | H27: =IF(B27*G27=0," ",G27) | L27: =IF(B27<>0,B27," ") | M27: =IF(L27<>0,L27," ")
A28: JBE-2235 - SOUNDER - BEACON (VID) (Loop) | B28: 0 | C28: =0.25/1000 -> 0.00025 | D28: =B28*C28 -> 0 | E28: =B28 -> 0 | F28: =10/1000 -> 0.01 | G28: =E28*F28 -> 0 | H28: =IF(B28*G28=0," ",G28) | L28: =IF(B28<>0,B28," ") | M28: =IF(L28<>0,L28," ")
A29: JBE-2200 - ZONE MODULE (Loop) | B29: 0 | C29: =9/1000 -> 0.009 | D29: =B29*C29 -> 0 | E29: =B29 -> 0 | F29: =46/1000 -> 0.046 | G29: =E29*F29 -> 0 | K29: =IF(B29<>0,B29," ") | M29: =IF(K29<>0,K29," ")
A30: JBE-2000 - ZONE MODULE (External Power Supply) | B30: 0 | C30: =2/1000 -> 0.002 | D30: =B30*C30 -> 0 | E30: =B30 -> 0 | F30: =2/1000 -> 0.002 | G30: =E30*F30 -> 0 | K30: =IF(B30<>0,B30," ") | M30: =IF(K30<>0,K30," ")
A31: JBE-2150 - ISOLATOR MODULE | B31: 0 | C31: =0.25/1000 -> 0.00025 | D31: =B31*C31 -> 0 | E31: =B31 -> 0 | F31: =0.25/1000 -> 0.00025 | G31: =E31*F31 -> 0 | I31: =IF(B30<>0,B30," ")
A32: REMOTE INDICATOR | B32: 0 | C32: 0.000625 | D32: =B32*C32 -> 0 | E32: =B32 -> 0 | F32: =8/1000 -> 0.008 | G32: =E32*F32 -> 0
A33: Total | B33: =SUM(B19:B32) -> 0 | D33: =SUM(D19:D32) -> 0 | E33: =SUM(E19:E31) -> 0 | G33: =SUM(G19:G32) -> 0 | H33: =SUM(H19:H32) -> 0 | I33: =SUM(I19:I32) -> 0 | J33: =SUM(J19:J32) -> 0 | K33: =SUM(K19:K32) -> 0 | L33: =SUM(L19:L32) -> 0 | M33: =SUM(M19:M32) -> 0
D34: =IF(M33>200,"Error: The Loop cannot contain more than 200 addresses","")
D35: =IF(B28>30,"Error: The Loop cannot contain more than 30 Loop Sounders in 1.000 meters","")
D36: =IF(AND(B11>1000,B28>19),"Error: The Loop cannot contain more than 19 Loop Sounders in 2.000 meters","")
D37: =IF(AND(B29>6),"Error: The Loop cannot contain more than 6 Zone Modules Powered from the Loop","")
D38: =IF(OR(B25>0,B27>0,B30>0),"Info: External 24V needed. EN 54-4 certificate."," ")
D39: =IF(OR(B25>0,B27>0,B30>0)," Control Panel could provide from 24Vaux,"," ")
D40: =IF(OR(B25>0,B27>0,B30>0)," if 2A maximum current isn't exceeded."," ")
A42: Loop Parameters
A43: Cu | B43: 0.0172 | D43: Ω*mm2/m
A44: I_Standby | B44: =D33 -> 0 | D44: A
A45: I_Alarm | B45: =G33-H33 -> 0 | D45: A
A46: I_Sounders | B46: =H33 -> 0 | D46: A
A47: I_Total | B47: =SUM(B44:B46) -> 0 | D47: A
A48: V_Lin_Ring | B48: 6.9 | D48: V
A50: Minimum Cable Section for common Lenghts
A51: Lenghts | B51: 1000 | D51: 1500 | G51: 2000 | H51: 2500 | I51: 3000 | J51: 3500 | K51: m
A52: R_Cable | B52: =((($B$43*B51)/B54)*2) -> 68.8 | C52: =((($B$43*C51)/C54)*2) -> 0 | D52: =((($B$43*D51)/D54)*2) -> 103.2 | E52: =((($B$43*E51)/E54)*2) -> 0 | F52: =((($B$43*F51)/F54)*2) -> 0 | G52: =((($B$43*G51)/G54)*2) -> 137.6 | H52: =((($B$43*H51)/H54)*2) -> 172 | I52: =((($B$43*I51)/I54)*2) -> 206.4 | J52: =((($B$43*J51)/J54)*2) -> 240.8 | K52: Ω
A53: R_eq_Ring | B53: =B52/2 -> 34.4 | C53: =C52/2 -> 0 | D53: =D52/2 -> 51.6 | E53: =E52/2 -> 0 | F53: =F52/2 -> 0 | G53: =G52/2 -> 68.8 | H53: =H52/2 -> 86 | I53: =I52/2 -> 103.2 | J53: =J52/2 -> 120.4 | K53: Ω
A54: S_min | B54: =IF(IFERROR((($B$43*B$51)/(($B$48)/$B$47)),0)<0.5,0.5,IFERROR((($B$43*B$51)/(($B$48)/$B$47)),0)) -> 0.5 | C54: =IF(IFERROR((($B$43*C$51)/(($B$48)/$B$47)),0)<0.5,0.5,IFERROR((($B$43*C$51)/(($B$48)/$B$47)),0)) -> 0.5 | D54: =IF(IFERROR((($B$43*D$51)/(($B$48)/$B$47)),0)<0.5,0.5,IFERROR((($B$43*D$51)/(($B$48)/$B$47)),0)) -> 0.5 | E54: =IF(IFERROR((($B$43*E$51)/(($B$48)/$B$47)),0)<0.5,0.5,IFERROR((($B$43*E$51)/(($B$48)/$B$47)),0)) -> 0.5 | F54: =IF(IFERROR((($B$43*F$51)/(($B$48)/$B$47)),0)<0.5,0.5,IFERROR((($B$43*F$51)/(($B$48)/$B$47)),0)) -> 0.5 | G54: =IF(IFERROR((($B$43*G$51)/(($B$48)/$B$47)),0)<0.5,0.5,IFERROR((($B$43*G$51)/(($B$48)/$B$47)),0)) -> 0.5 | H54: =IF(IFERROR((($B$43*H$51)/(($B$48)/$B$47)),0)<0.5,0.5,IFERROR((($B$43*H$51)/(($B$48)/$B$47)),0)) -> 0.5 | I54: =IF(IFERROR((($B$43*I$51)/(($B$48)/$B$47)),0)<0.5,0.5,IFERROR((($B$43*I$51)/(($B$48)/$B$47)),0)) -> 0.5 | J54: =IF(IFERROR((($B$43*J$51)/(($B$48)/$B$47)),0)<0.5,0.5,IFERROR((($B$43*J$51)/(($B$48)/$B$47)),0)) -> 0.5 | K54: mm2
B55: Warning: The Minimum Cable Seccion in the Loop is 0,5 mm2
A57: Maximum Cable Lenght for Standard Cable Section (IEC 60228)
A58: Section | B58: 0.5 | D58: 0.75 | G58: 1 | H58: 1.5 | I58: 2.5 | J58: 4 | K58: mm2
A59: R_Cable | B59: =$B$43*B61/B58*2 -> 240.8 | C59: =$B$43*C61/C58*2 -> #DIV/0! | D59: =$B$43*D61/D58*2 -> 160.53333 | E59: =$B$43*E61/E58*2 -> #DIV/0! | F59: =$B$43*F61/F58*2 -> #DIV/0! | G59: =$B$43*G61/G58*2 -> 120.4 | H59: =$B$43*H61/H58*2 -> 80.266667 | I59: =$B$43*I61/I58*2 -> 48.16 | J59: =$B$43*J61/J58*2 -> 30.1 | K59: Ω
A60: R_eq_Ring | B60: =B59/2 -> 120.4 | C60: =C59/2 -> #DIV/0! | D60: =D59/2 -> 80.266667 | E60: =E59/2 -> #DIV/0! | F60: =F59/2 -> #DIV/0! | G60: =G59/2 -> 60.2 | H60: =H59/2 -> 40.133333 | I60: =I59/2 -> 24.08 | J60: =J59/2 -> 15.05 | K60: Ω
A61: L_max | B61: =IF(IFERROR((((($B$48)/$B$47)*B$58)/$B$43),9999)>3500,3500,IFERROR((((($B$48)/$B$47)*B$58)/$B$43),9999)) -> 3500 | C61: =IF(IFERROR((((($B$48)/$B$47)*C$58)/$B$43),9999)>3500,3500,IFERROR((((($B$48)/$B$47)*C$58)/$B$43),9999)) -> 3500 | D61: =IF(IFERROR((((($B$48)/$B$47)*D$58)/$B$43),9999)>3500,3500,IFERROR((((($B$48)/$B$47)*D$58)/$B$43),9999)) -> 3500 | E61: =IF(IFERROR((((($B$48)/$B$47)*E$58)/$B$43),9999)>3500,3500,IFERROR((((($B$48)/$B$47)*E$58)/$B$43),9999)) -> 3500 | F61: =IF(IFERROR((((($B$48)/$B$47)*F$58)/$B$43),9999)>3500,3500,IFERROR((((($B$48)/$B$47)*F$58)/$B$43),9999)) -> 3500 | G61: =IF(IFERROR((((($B$48)/$B$47)*G$58)/$B$43),9999)>3500,3500,IFERROR((((($B$48)/$B$47)*G$58)/$B$43),9999)) -> 3500 | H61: =IF(IFERROR((((($B$48)/$B$47)*H$58)/$B$43),9999)>3500,3500,IFERROR((((($B$48)/$B$47)*H$58)/$B$43),9999)) -> 3500 | I61: =IF(IFERROR((((($B$48)/$B$47)*I$58)/$B$43),9999)>3500,3500,IFERROR((((($B$48)/$B$47)*I$58)/$B$43),9999)) -> 3500 | J61: =IF(IFERROR((((($B$48)/$B$47)*J$58)/$B$43),9999)>3500,3500,IFERROR((((($B$48)/$B$47)*J$58)/$B$43),9999)) -> 3500 | K61: m
B62: Warning: The Maximum Cable Length in the Loop is 3.500 meters
A64: Maximum Current Calculation
A65: ? S | B65: =$B$10 -> 1.5 | D65: mm2 | H65: =IF(B65<0.5,"Error: The Minimum Cable Seccion in the Loop is 0,5 mm2","")
A66: ? L | B66: =$B$11 -> 1000 | D66: meters | H66: =IF(B66>3500,"Error: The Maximum Lenght in the Line is 3500 meters","")
A67: R_Cable_Sys | B67: =((($B$43*B66)/B65)*2) -> 22.933333 | D67: Ω
A68: R_eq_Ring_Sys | B68: =B67/2 -> 11.466667 | D68: Ω
A69: I_max | B69: =$B$48/$B$68 -> 0.60174419 | D69: A
A71: System Check
A72: Current | D72: =IF($B$47>0.5,"FAIL",IF($B$69>=$B$47,"OK","FAIL")) -> OK
A73: Addresses | D73: =IF($M$33<=200,"OK","FAIL") -> OK
D74: =IF($B$47>0.5,"Error: The Loop Current is upper that Maximum Current allowed",IF($B$69<$B$47,"Error: The Loop Current is upper that Maximum Current allowed",""))
D75: =IF($M$33>200,"Error: The Loop cannot contain more than 200 addresses","")
A77: This tool may be used as a design help for Jade Bird Fire Alarm International (Europe) S.L. We reserve the right not to be responsible for its accuracy, completeness or quality of the information provided, including any kind of information which could be incomplete or incorrect.

Sheet SC_Loop 8
C1: HIDE | E1: HIDE | F1: HIDE
A7: SYSTEM CALCULATOR JADE BIRD JBE-P2L1 EXCEL TOOL | M7: LC 2023 22a
A9: Loop | K9: System Check
A10: Section of wire | B10: 1.5 | D10: =VLOOKUP($B$10,Data!$A$9:$B$14,2,FALSE) -> 16 | K10: Current | M10: =IF($B$47>0.5,"FAIL",IF($B$69>=$B$47,"OK","FAIL")) -> OK
A11: Lenght loop | B11: 1000 | K11: Addresses | M11: =IF($M$33<=200,"OK","FAIL") -> OK
A12: Fill Cable Section in mm2 and the Line Distance in meters (Yelow field) | D12: =IF(B11>3500,"Error: The Maximum Lenght in the Line is 3500 m","")
D13: =IF($B$47>0.5,"Error: The Loop Current is upper that Maximum Current allowed",IF($B$69<$B$47,"Error: The Loop Current is upper that Maximum Current allowed",""))
D14: =IF($M$33>250,"Error: The Loop cannot contain more than 200 addresses","")
B16: Fill the PCS field for the desired configuration (Yelow field) | C16: Fill the PCS field for the desired configuration (Yelow field)
A17: Devices Loop 1
A18: REF. | B18: PCS | C18: I_Standby (A) | D18: I_Standby (A) | E18: PCS_alarm | F18: I_Alarm (A) | G18: I_Alarm (A) | H18: I_Sounders (A) | I18: ISO | J18: DET | K18: MOD | L18: SND | M18: ADR
A19: JBE-2100 - MCP | B19: 0 | C19: =0.3/1000 -> 0.0003 | D19: =B19*C19 -> 0 | E19: =B19 -> 0 | F19: =1/1000 -> 0.001 | G19: =E19*F19 -> 0 | K19: =IF(B19<>0,B19," ") | M19: =IF(K19<>0,K19," ")
A20: JBE-2106 - HEAT DETECTOR | B20: 0 | C20: 0.0003 | D20: =B20*C20 -> 0 | E20: =B20 -> 0 | F20: =1/1000 -> 0.001 | G20: =E20*F20 -> 0 | J20: =IF(B20<>0,B20," ") | M20: =IF(J20<>0,J20," ")
A21: JBE-2111 - SMOKE DETECTOR | B21: 0 | C21: 0.0003 | D21: =B21*C21 -> 0 | E21: =B21 -> 0 | F21: =1/1000 -> 0.001 | G21: =E21*F21 -> 0 | J21: =IF(B21<>0,B21," ") | M21: =IF(J21<>0,J21," ")
A22: JBE-2115 - COMBO DETECTOR | B22: 0 | C22: 0.0003 | D22: =B22*C22 -> 0 | E22: =B22 -> 0 | F22: =1/1000 -> 0.001 | G22: =E22*F22 -> 0 | J22: =IF(B22<>0,B22," ") | M22: =IF(J22<>0,J22," ")
A23: JBE-2120 - INPUT MODULE | B23: 0 | C23: =0.25/1000 -> 0.00025 | D23: =B23*C23 -> 0 | E23: =B23 -> 0 | F23: =1/1000 -> 0.001 | G23: =E23*F23 -> 0 | K23: =IF(B23<>0,B23," ") | M23: =IF(K23<>0,K23," ")
A24: JBE-2125 - OUTPUT MODULE WITH FEEDBACK (Loop) | B24: 0 | C24: =0.25/1000 -> 0.00025 | D24: =B24*C24 -> 0 | E24: =B24 -> 0 | F24: =1/1000 -> 0.001 | G24: =E24*F24 -> 0 | K24: =IF(B24<>0,B24," ") | M24: =IF(K24<>0,K24," ")
A25: JBE-2125 - OUTPUT MODULE WITH FEEDBACK (External Power Supply) | B25: 0 | C25: =0.25/1000 -> 0.00025 | D25: =B25*C25 -> 0 | E25: =B25 -> 0 | F25: =0.25/1000 -> 0.00025 | G25: =E25*F25 -> 0 | K25: =IF(B25<>0,B25," ") | M25: =IF(K25<>0,K25," ")
A26: JBE-2135 - SOUNDER (External Power Supply) | B26: 0 | C26: =0.25/1000 -> 0.00025 | D26: =B26*C26 -> 0 | E26: =B26 -> 0 | F26: =0.25/1000 -> 0.00025 | G26: =E26*F26 -> 0 | H26: =IF(B26*G26=0," ",G26) | L26: =IF(B26<>0,B26," ") | M26: =IF(L26<>0,L26," ")
A27: JBE-2145 - SOUNDER - BEACON (VID) (External Power Supply) | B27: 0 | C27: =0.25/1000 -> 0.00025 | D27: =B27*C27 -> 0 | E27: =B27 -> 0 | F27: =0.25/1000 -> 0.00025 | G27: =E27*F27 -> 0 | H27: =IF(B27*G27=0," ",G27) | L27: =IF(B27<>0,B27," ") | M27: =IF(L27<>0,L27," ")
A28: JBE-2235 - SOUNDER - BEACON (VID) (Loop) | B28: 0 | C28: =0.25/1000 -> 0.00025 | D28: =B28*C28 -> 0 | E28: =B28 -> 0 | F28: =10/1000 -> 0.01 | G28: =E28*F28 -> 0 | H28: =IF(B28*G28=0," ",G28) | L28: =IF(B28<>0,B28," ") | M28: =IF(L28<>0,L28," ")
A29: JBE-2200 - ZONE MODULE (Loop) | B29: 0 | C29: =9/1000 -> 0.009 | D29: =B29*C29 -> 0 | E29: =B29 -> 0 | F29: =46/1000 -> 0.046 | G29: =E29*F29 -> 0 | K29: =IF(B29<>0,B29," ") | M29: =IF(K29<>0,K29," ")
A30: JBE-2000 - ZONE MODULE (External Power Supply) | B30: 0 | C30: =2/1000 -> 0.002 | D30: =B30*C30 -> 0 | E30: =B30 -> 0 | F30: =2/1000 -> 0.002 | G30: =E30*F30 -> 0 | K30: =IF(B30<>0,B30," ") | M30: =IF(K30<>0,K30," ")
A31: JBE-2150 - ISOLATOR MODULE | B31: 0 | C31: =0.25/1000 -> 0.00025 | D31: =B31*C31 -> 0 | E31: =B31 -> 0 | F31: =0.25/1000 -> 0.00025 | G31: =E31*F31 -> 0 | I31: =IF(B30<>0,B30," ")
A32: REMOTE INDICATOR | B32: 0 | C32: 0.000625 | D32: =B32*C32 -> 0 | E32: =B32 -> 0 | F32: =8/1000 -> 0.008 | G32: =E32*F32 -> 0
A33: Total | B33: =SUM(B19:B32) -> 0 | D33: =SUM(D19:D32) -> 0 | E33: =SUM(E19:E31) -> 0 | G33: =SUM(G19:G32) -> 0 | H33: =SUM(H19:H32) -> 0 | I33: =SUM(I19:I32) -> 0 | J33: =SUM(J19:J32) -> 0 | K33: =SUM(K19:K32) -> 0 | L33: =SUM(L19:L32) -> 0 | M33: =SUM(M19:M32) -> 0
D34: =IF(M33>200,"Error: The Loop cannot contain more than 200 addresses","")
D35: =IF(B28>30,"Error: The Loop cannot contain more than 30 Loop Sounders in 1.000 meters","")
D36: =IF(AND(B11>1000,B28>19),"Error: The Loop cannot contain more than 19 Loop Sounders in 2.000 meters","")
D37: =IF(AND(B29>6),"Error: The Loop cannot contain more than 6 Zone Modules Powered from the Loop","")
D38: =IF(OR(B25>0,B27>0,B30>0),"Info: External 24V needed. EN 54-4 certificate."," ")
D39: =IF(OR(B25>0,B27>0,B30>0)," Control Panel could provide from 24Vaux,"," ")
D40: =IF(OR(B25>0,B27>0,B30>0)," if 2A maximum current isn't exceeded."," ")
A42: Loop Parameters
A43: Cu | B43: 0.0172 | D43: Ω*mm2/m
A44: I_Standby | B44: =D33 -> 0 | D44: A
A45: I_Alarm | B45: =G33-H33 -> 0 | D45: A
A46: I_Sounders | B46: =H33 -> 0 | D46: A
A47: I_Total | B47: =SUM(B44:B46) -> 0 | D47: A
A48: V_Lin_Ring | B48: 6.9 | D48: V
A50: Minimum Cable Section for common Lenghts
A51: Lenghts | B51: 1000 | D51: 1500 | G51: 2000 | H51: 2500 | I51: 3000 | J51: 3500 | K51: m
A52: R_Cable | B52: =((($B$43*B51)/B54)*2) -> 68.8 | C52: =((($B$43*C51)/C54)*2) -> 0 | D52: =((($B$43*D51)/D54)*2) -> 103.2 | E52: =((($B$43*E51)/E54)*2) -> 0 | F52: =((($B$43*F51)/F54)*2) -> 0 | G52: =((($B$43*G51)/G54)*2) -> 137.6 | H52: =((($B$43*H51)/H54)*2) -> 172 | I52: =((($B$43*I51)/I54)*2) -> 206.4 | J52: =((($B$43*J51)/J54)*2) -> 240.8 | K52: Ω
A53: R_eq_Ring | B53: =B52/2 -> 34.4 | C53: =C52/2 -> 0 | D53: =D52/2 -> 51.6 | E53: =E52/2 -> 0 | F53: =F52/2 -> 0 | G53: =G52/2 -> 68.8 | H53: =H52/2 -> 86 | I53: =I52/2 -> 103.2 | J53: =J52/2 -> 120.4 | K53: Ω
A54: S_min | B54: =IF(IFERROR((($B$43*B$51)/(($B$48)/$B$47)),0)<0.5,0.5,IFERROR((($B$43*B$51)/(($B$48)/$B$47)),0)) -> 0.5 | C54: =IF(IFERROR((($B$43*C$51)/(($B$48)/$B$47)),0)<0.5,0.5,IFERROR((($B$43*C$51)/(($B$48)/$B$47)),0)) -> 0.5 | D54: =IF(IFERROR((($B$43*D$51)/(($B$48)/$B$47)),0)<0.5,0.5,IFERROR((($B$43*D$51)/(($B$48)/$B$47)),0)) -> 0.5 | E54: =IF(IFERROR((($B$43*E$51)/(($B$48)/$B$47)),0)<0.5,0.5,IFERROR((($B$43*E$51)/(($B$48)/$B$47)),0)) -> 0.5 | F54: =IF(IFERROR((($B$43*F$51)/(($B$48)/$B$47)),0)<0.5,0.5,IFERROR((($B$43*F$51)/(($B$48)/$B$47)),0)) -> 0.5 | G54: =IF(IFERROR((($B$43*G$51)/(($B$48)/$B$47)),0)<0.5,0.5,IFERROR((($B$43*G$51)/(($B$48)/$B$47)),0)) -> 0.5 | H54: =IF(IFERROR((($B$43*H$51)/(($B$48)/$B$47)),0)<0.5,0.5,IFERROR((($B$43*H$51)/(($B$48)/$B$47)),0)) -> 0.5 | I54: =IF(IFERROR((($B$43*I$51)/(($B$48)/$B$47)),0)<0.5,0.5,IFERROR((($B$43*I$51)/(($B$48)/$B$47)),0)) -> 0.5 | J54: =IF(IFERROR((($B$43*J$51)/(($B$48)/$B$47)),0)<0.5,0.5,IFERROR((($B$43*J$51)/(($B$48)/$B$47)),0)) -> 0.5 | K54: mm2
B55: Warning: The Minimum Cable Seccion in the Loop is 0,5 mm2
A57: Maximum Cable Lenght for Standard Cable Section (IEC 60228)
A58: Section | B58: 0.5 | D58: 0.75 | G58: 1 | H58: 1.5 | I58: 2.5 | J58: 4 | K58: mm2
A59: R_Cable | B59: =$B$43*B61/B58*2 -> 240.8 | C59: =$B$43*C61/C58*2 -> #DIV/0! | D59: =$B$43*D61/D58*2 -> 160.53333 | E59: =$B$43*E61/E58*2 -> #DIV/0! | F59: =$B$43*F61/F58*2 -> #DIV/0! | G59: =$B$43*G61/G58*2 -> 120.4 | H59: =$B$43*H61/H58*2 -> 80.266667 | I59: =$B$43*I61/I58*2 -> 48.16 | J59: =$B$43*J61/J58*2 -> 30.1 | K59: Ω
A60: R_eq_Ring | B60: =B59/2 -> 120.4 | C60: =C59/2 -> #DIV/0! | D60: =D59/2 -> 80.266667 | E60: =E59/2 -> #DIV/0! | F60: =F59/2 -> #DIV/0! | G60: =G59/2 -> 60.2 | H60: =H59/2 -> 40.133333 | I60: =I59/2 -> 24.08 | J60: =J59/2 -> 15.05 | K60: Ω
A61: L_max | B61: =IF(IFERROR((((($B$48)/$B$47)*B$58)/$B$43),9999)>3500,3500,IFERROR((((($B$48)/$B$47)*B$58)/$B$43),9999)) -> 3500 | C61: =IF(IFERROR((((($B$48)/$B$47)*C$58)/$B$43),9999)>3500,3500,IFERROR((((($B$48)/$B$47)*C$58)/$B$43),9999)) -> 3500 | D61: =IF(IFERROR((((($B$48)/$B$47)*D$58)/$B$43),9999)>3500,3500,IFERROR((((($B$48)/$B$47)*D$58)/$B$43),9999)) -> 3500 | E61: =IF(IFERROR((((($B$48)/$B$47)*E$58)/$B$43),9999)>3500,3500,IFERROR((((($B$48)/$B$47)*E$58)/$B$43),9999)) -> 3500 | F61: =IF(IFERROR((((($B$48)/$B$47)*F$58)/$B$43),9999)>3500,3500,IFERROR((((($B$48)/$B$47)*F$58)/$B$43),9999)) -> 3500 | G61: =IF(IFERROR((((($B$48)/$B$47)*G$58)/$B$43),9999)>3500,3500,IFERROR((((($B$48)/$B$47)*G$58)/$B$43),9999)) -> 3500 | H61: =IF(IFERROR((((($B$48)/$B$47)*H$58)/$B$43),9999)>3500,3500,IFERROR((((($B$48)/$B$47)*H$58)/$B$43),9999)) -> 3500 | I61: =IF(IFERROR((((($B$48)/$B$47)*I$58)/$B$43),9999)>3500,3500,IFERROR((((($B$48)/$B$47)*I$58)/$B$43),9999)) -> 3500 | J61: =IF(IFERROR((((($B$48)/$B$47)*J$58)/$B$43),9999)>3500,3500,IFERROR((((($B$48)/$B$47)*J$58)/$B$43),9999)) -> 3500 | K61: m
B62: Warning: The Maximum Cable Length in the Loop is 3.500 meters
A64: Maximum Current Calculation
A65: ? S | B65: =$B$10 -> 1.5 | D65: mm2 | H65: =IF(B65<0.5,"Error: The Minimum Cable Seccion in the Loop is 0,5 mm2","")
A66: ? L | B66: =$B$11 -> 1000 | D66: meters | H66: =IF(B66>3500,"Error: The Maximum Lenght in the Line is 3500 meters","")
A67: R_Cable_Sys | B67: =((($B$43*B66)/B65)*2) -> 22.933333 | D67: Ω
A68: R_eq_Ring_Sys | B68: =B67/2 -> 11.466667 | D68: Ω
A69: I_max | B69: =$B$48/$B$68 -> 0.60174419 | D69: A
A71: System Check
A72: Current | D72: =IF($B$47>0.5,"FAIL",IF($B$69>=$B$47,"OK","FAIL")) -> OK
A73: Addresses | D73: =IF($M$33<=200,"OK","FAIL") -> OK
D74: =IF($B$47>0.5,"Error: The Loop Current is upper that Maximum Current allowed",IF($B$69<$B$47,"Error: The Loop Current is upper that Maximum Current allowed",""))
D75: =IF($M$33>200,"Error: The Loop cannot contain more than 200 addresses","")
A77: This tool may be used as a design help for Jade Bird Fire Alarm International (Europe) S.L. We reserve the right not to be responsible for its accuracy, completeness or quality of the information provided, including any kind of information which could be incomplete or incorrect.

Sheet Data
A8: Section of wire (mm2) | B8: AWG | D8: 0.5 | E8: Section of wire (mm2)
A9: 0.5 | B9: 21 | D9: =VLOOKUP(D8,Data!$A$9:$B$14,2,FALSE) -> 21 | E9: Section of wire (AWG)
A10: 0.8 | B10: 20
A11: 1 | B11: 18
A12: 1.5 | B12: 16
A13: 2 | B13: 15
A14: 2.5 | B14: 14
A16: Standby time (h) | D16: 72 | E16: Standby time (h)
A17: 72
A18: 48
A19: 30
A20: 24
A21: 4
A23: Alarm time (min) | D23: 30 | E23: Alarm time (min)
A24: 30
A25: 15
A26: 5
A27: 0
A29: Fire Control Panel | B29: I_Standby (A) | C29: I_Alarm (A)
A30: JBE-P2L1 | B30: 0.2 | C30: 0.2
A32: Extension card | B32: I_Standby (A) | C32: I_Alarm (A)
A33: JBE-P2L1-EXLP | B33: 0.005 | C33: 0.005
A34: JBE-P2L2-2LP | B34: 0.03 | C34: 0.03
A35: JBE-P2L2-IO | B35: 0.026 | C35: 0.026
A36: JBE-P2L2-NET | B36: 0.045 | C36: 0.045
A38: Battery characteristics | B38: Voltaje nominal (V) | C38: 20-hr rate Capacity (Ah) | D38: 10-hr rate Capacity (Ah) | E38: Terminal Type
A39: YUASA NP7-12L | B39: 12 | C39: 7 | D39: 6.4 | E39: Faston 6.35
A40: YUASA NP7-12LFR | B40: 12 | C40: 7 | D40: 6.4 | E40: Faston 6.35
A41: YUASA NP12-12 | B41: 12 | C41: 12 | D41: 11.1 | E41: Faston 6.35
A42: YUASA NP12-12FR | B42: 12 | C42: 12 | D42: 11.1 | E42: Faston 6.35
A43: YUASA NP17-12I | B43: 12 | C43: 17 | D43: 15.7 | E43: Threaded terminal M5 (F)
A44: YUASA NP17-12IFR | B44: 12 | C44: 17 | D44: 15.7 | E44: Threaded terminal M5 (F)
A46: Battery characteristics | B46: 20-hr rate Capacity (Ah)
B47: 7
B48: 12
B49: 17
